Workbook

Sheet bdt
A1: Term (Yrs) | B1: Yld (Cont Cmp) | C1: Forward Vol | D1: Price
A2: 0.5 | B2: 0.0066
A3: 1 | B3: 0.01 | C3: 0.44 | D3: =100*EXP(-B3*A3) -> 99.004983
A4: 1.5 | B4: 0.012 | C4: 0.44 | D4: =100*EXP(-B4*A4) -> 98.216103
A5: 2 | B5: 0.014 | C5: 0.44 | D5: =100*EXP(-B5*A5) -> 97.238837
A6: 2.5 | B6: 0.0145 | C6: 0.5 | D6: =100*EXP(-B6*A6) -> 96.439916
A7: 3 | B7: 0.016 | C7: 0.5 | D7: =100*EXP(-B7*A7) -> 95.313379
A8: 3.5 | B8: 0.017 | C8: 0.5 | D8: =100*EXP(-B8*A8) -> 94.223553
A9: 4 | B9: 0.019 | C9: 0.55 | D9: =100*EXP(-B9*A9) -> 92.681621
A10: 4.5 | B10: 0.02 | C10: 0.55 | D10: =100*EXP(-B10*A10) -> 91.393119
A11: 5 | B11: 0.022 | C11: 0.55 | D11: =100*EXP(-B11*A11) -> 89.583414
A12: 5.5 | B12: 0.023 | C12: 0.55 | D12: =100*EXP(-B12*A12) -> 88.117415
A13: 6 | B13: 0.026 | C13: 0.65 | D13: =100*EXP(-B13*A13) -> 85.555919
A14: 6.5 | B14: 0.028 | C14: 0.65 | D14: =100*EXP(-B14*A14) -> 83.360134
... A18: 8.5 | B18: 0.032 | C18: 0.44 | D18: =100*EXP(-B18*A18) -> 76.185426
A19: 9 | B19: 0.032 | C19: 0.44 | D19: =100*EXP(-B19*A19) -> 74.976159 | Z19: 8.6656314
A20: 9.5 | B20: 0.033 | C20: 0.4 | D20: =100*EXP(-B20*A20) -> 73.088438 | Y20: 11.023119
A21: 10 | B21: 0.034 | C21: 0.4 | D21: =100*EXP(-B21*A21) -> 71.177032 | X21: 11.447835 | Z21: =(Z19^24*Z69)^(1/25) -> 5.2824504
A22: 10.5 | B22: 0.035 | C22: 0.4 | D22: =100*EXP(-B22*A22) -> 69.246333 | W22: 8.2438184 | Y22: =(Y20^23*Y68)^(1/24) -> 6.5321478
A23: 11 | B23: 0.035 | C23: 0.4 | D23: =100*EXP(-B23*A23) -> 68.045064 | V23: 10.210336 | X23: =(X21^22*X67)^(1/23) -> 6.7838478 | Z23: =(Z19^23*Z69^2)^(1/25) -> 3.2201095
A24: 11.5 | B24: 0.034875 | C24: 0.37 | D24: =100*EXP(-B24*A24) -> 66.960821 | U24: 12.061092 | W24: =(W22^21*W66)^(1/22) -> 4.8851726 | Y24: =(Y20^22*Y68^2)^(1/24) -> 3.8708605
A25: 12 | B25: 0.03486 | C25: 0.37 | D25: =100*EXP(-B25*A25) -> 65.815159 | T25: 8.6818377 | V25: =(V23^20*V65)^(1/21) -> 5.799172 | X25: =(X21^21*X67^2)^(1/23) -> 4.0200256 | Z25: =(Z19^22*Z69^3)^(1/25) -> 1.9629347
A26: 12.5 | B26: 0.0345 | C26: 0.37 | D26: =100*EXP(-B26*A26) -> 64.969647 | S26: 6.2618179 | U26: =(U24^19*U64)^(1/20) -> 6.8503469 | W26: =(W22^20*W66^2)^(1/22) -> 2.8948856 | Y26: =(Y20^21*Y68^3)^(1/24) -> 2.2938184
A27: 13 | B27: 0.034 | C27: 0.35 | D27: =100*EXP(-B27*A27) -> 64.274964 | R27: 4.4380497 | T27: =(T25^18*T63)^(1/19) -> 4.9310286 | V27: =(V23^19*V65^2)^(1/21) -> 3.2937599 | X27: =(X21^20*X67^3)^(1/23) -> 2.3822183 | Z27: =(Z19^21*Z69^4)^(1/25) -> 1.1965782
Q28: 6.5246561 | S28: =(S26^17*S62)^(1/18) -> 3.5565298 | U28: =(U24^18*U64^2)^(1/20) -> 3.8907961 | W28: =(W22^19*W66^3)^(1/22) -> 1.7154691 | Y28: =(Y20^20*Y68^4)^(1/24) -> 1.3592851
P29: 2.2541635 | R29: =(R27^16*R61)^(1/17) -> 2.3820499 | T29: =(T25^17*T63^2)^(1/19) -> 2.8006793 | V29: =(V23^18*V65^3)^(1/21) -> 1.8707592 | X29: =(X21^19*X67^4)^(1/23) -> 1.4116735 | Z29: =(Z19^20*Z69^5)^(1/25) -> 0.72941768
O30: 11.809036 | Q30: =(Q28^15*Q60)^(1/16) -> 3.502005 | S30: =(S26^16*S62^2)^(1/18) -> 2.0200051 | U30: =(U24^17*U64^3)^(1/20) -> 2.2098581 | W30: =(W22^18*W66^4)^(1/22) -> 1.0165632 | Y30: =(Y20^19*Y68^5)^(1/24) -> 0.80549353
N31: 7.1223244 | P31: =(P29^14*P59)^(1/15) -> 1.2098847 | R31: =(R27^15*R61^2)^(1/17) -> 1.278526 | T31: =(T25^16*T63^3)^(1/19) -> 1.5907035 | V31: =(V23^17*V65^4)^(1/21) -> 1.0625365 | X31: =(X21^18*X67^5)^(1/23) -> 0.83654055 | Z31: =(Z19^19*Z69^6)^(1/25) -> 0.44464304
M32: 5.5676583 | O32: =(O30^13*O58)^(1/14) -> 4.7097026 | Q32: =(Q28^14*Q60^2)^(1/16) -> 1.8796452 | S32: =(S26^15*S62^3)^(1/18) -> 1.1473039 | U32: =(U24^16*U64^4)^(1/20) -> 1.2551346 | W32: =(W22^17*W66^5)^(1/22) -> 0.60240129 | Y32: =(Y20^18*Y68^6)^(1/24) -> 0.47732433
L33: 3.9295228 | N33: =(N31^12*N57)^(1/13) -> 2.8405434 | P33: =(P29^13*P59^2)^(1/15) -> 0.64938544 | R33: =(R27^14*R61^3)^(1/17) -> 0.68622772 | T33: =(T25^15*T63^4)^(1/19) -> 0.90347283 | V33: =(V23^16*V65^5)^(1/21) -> 0.6034896 | X33: =(X21^17*X67^6)^(1/23) -> 0.49572375 | Z33: =(Z19^18*Z69^7)^(1/25) -> 0.27104832
K34: 0.88775452 | M34: =(M32^11*M56)^(1/12) -> 2.2205072 | O34: =(O30^12*O58^2)^(1/14) -> 1.8783327 | Q34: =(Q28^13*Q60^3)^(1/16) -> 1.0088696 | S34: =(S26^14*S62^4)^(1/18) -> 0.65163515 | U34: =(U24^15*U64^5)^(1/20) -> 0.71287966 | W34: =(W22^16*W66^6)^(1/22) -> 0.35697466 | Y34: =(Y20^17*Y68^7)^(1/24) -> 0.2828558
J35: 0.75468232 | L35: =(L33^10*L55)^(1/11) -> 1.5671802 | N35: =(N31^11*N57^2)^(1/13) -> 1.1328727 | P35: =(P29^12*P59^3)^(1/15) -> 0.34854681 | R35: =(R27^13*R61^4)^(1/17) -> 0.36832141 | T35: =(T25^14*T63^5)^(1/19) -> 0.51314601 | V35: =(V23^15*V65^6)^(1/21) -> 0.34276443 | X35: =(X21^16*X67^7)^(1/23) -> 0.29375986 | Z35: =(Z19^17*Z69^8)^(1/25) -> 0.16522735
I36: 0.3730882 | K36: =(K34^9*K54)^(1/10) -> 0.4078411 | M36: =(M32^10*M56^2)^(1/12) -> 0.88558816 | O36: =(O30^11*O58^3)^(1/14) -> 0.74912025 | Q36: =(Q28^12*Q60^4)^(1/16) -> 0.54149462 | S36: =(S26^13*S62^5)^(1/18) -> 0.37010975 | U36: =(U24^14*U64^6)^(1/20) -> 0.40489474 | W36: =(W22^15*W66^7)^(1/22) -> 0.21153824 | Y36: =(Y20^16*Y68^8)^(1/24) -> 0.16761643
H37: 0.31324384 | J37: =(J35^8*J53)^(1/9) -> 0.34670679 | L37: =(L33^9*L55^2)^(1/11) -> 0.62502597 | N37: =(N31^10*N57^3)^(1/13) -> 0.45181513 | P37: =(P29^11*P59^4)^(1/15) -> 0.18707669 | R37: =(R27^12*R61^5)^(1/17) -> 0.19769044 | T37: =(T25^13*T63^6)^(1/19) -> 0.29145185 | V37: =(V23^14*V65^7)^(1/21) -> 0.19468016 | X37: =(X21^15*X67^8)^(1/23) -> 0.17407852 | Z37: =(Z19^16*Z69^9)^(1/25) -> 0.10072033
G38: 0.13611792 | I38: =(I36^7*I52)^(1/8) -> 0.17139972 | K38: =(K34^8*K54^2)^(1/10) -> 0.18736527 | M38: =(M32^9*M56^3)^(1/12) -> 0.35319246 | O38: =(O30^10*O58^4)^(1/14) -> 0.29876558 | Q38: =(Q28^11*Q60^5)^(1/16) -> 0.29063859 | S38: =(S26^12*S62^6)^(1/18) -> 0.21021153 | U38: =(U24^13*U64^7)^(1/20) -> 0.22996834 | W38: =(W22^14*W66^8)^(1/22) -> 0.12535463 | Y38: =(Y20^15*Y68^9)^(1/24) -> 0.099327182
F39: 0.10283871 | H39: =(H37^6*H51)^(1/7) -> 0.14390653 | J39: =(J35^7*J53^2)^(1/9) -> 0.15927973 | L39: =(L33^8*L55^3)^(1/11) -> 0.24927412 | N39: =(N31^9*N57^4)^(1/13) -> 0.18019405 | P39: =(P29^10*P59^5)^(1/15) -> 0.10041029 | R39: =(R27^11*R61^6)^(1/17) -> 0.10610708 | T39: =(T25^12*T63^7)^(1/19) -> 0.16553608 | V39: =(V23^13*V65^8)^(1/21) -> 0.11057263 | X39: =(X21^14*X67^9)^(1/23) -> 0.10315681 | Z39: =(Z19^15*Z69^10)^(1/25) -> 0.061397736
E40: 0.053553805 | G40: =(G38^5*G50)^(1/6) -> 0.067115472 | I40: =(I36^6*I52^2)^(1/8) -> 0.078742406 | K40: =(K34^7*K54^3)^(1/10) -> 0.086077013 | M40: =(M32^8*M56^4)^(1/12) -> 0.14086109 | O40: =(O30^9*O58^5)^(1/14) -> 0.11915426 | Q40: =(Q28^10*Q60^6)^(1/16) -> 0.15599562 | S40: =(S26^11*S62^7)^(1/18) -> 0.11939401 | U40: =(U24^12*U64^8)^(1/20) -> 0.13061527 | W40: =(W22^13*W66^9)^(1/22) -> 0.074283418 | Y40: =(Y20^14*Y68^10)^(1/24) -> 0.058859914
D41: 0.044248438 | F41: =(F39^4*F49)^(1/5) -> 0.050706575 | H41: =(H37^5*H51^2)^(1/7) -> 0.066111724 | J41: =(J35^6*J53^3)^(1/9) -> 0.073174318 | L41: =(L33^7*L55^4)^(1/11) -> 0.099416006 | N41: =(N31^8*N57^5)^(1/13) -> 0.071865445 | P41: =(P29^9*P59^6)^(1/15) -> 0.053893551 | R41: =(R27^10*R61^7)^(1/17) -> 0.056951223 | T41: =(T25^11*T63^8)^(1/19) -> 0.094019628 | V41: =(V23^12*V65^9)^(1/21) -> 0.062802017 | X41: =(X21^13*X67^10)^(1/23) -> 0.06112947 | Z41: =(Z19^14*Z69^11)^(1/25) -> 0.03742722
C42: 0.027138048 | E42: =(E40*E40*E40*E48)^(1/4) -> 0.026405707 | G42: =(G38^4*G50^2)^(1/6) -> 0.033092531 | I42: =(I36^5*I52^3)^(1/8) -> 0.036174893 | K42: =(K34^6*K54^4)^(1/10) -> 0.039544427 | M42: =(M32^7*M56^5)^(1/12) -> 0.056178566 | O42: =(O30^8*O58^6)^(1/14) -> 0.047521333 | Q42: =(Q28^9*Q60^7)^(1/16) -> 0.083728158 | S42: =(S26^10*S62^8)^(1/18) -> 0.067812315 | U42: =(U24^11*U64^9)^(1/20) -> 0.074185646 | W42: =(W22^12*W66^10)^(1/22) -> 0.044019325 | Y42: =(Y20^13*Y68^11)^(1/24) -> 0.034879571
B43: 0.017444873 | D43: =(D41*D41*D47)^(1/3) -> 0.023749624 | F43: =(F39^3*F49^2)^(1/5) -> 0.025001838 | H43: =(H37^4*H51^3)^(1/7) -> 0.030372214 | J43: =(J35^5*J53^4)^(1/9) -> 0.033616837 | L43: =(L33^6*L55^5)^(1/11) -> 0.039649292 | N43: =(N31^7*N57^6)^(1/13) -> 0.028661558 | P43: =(P29^8*P59^7)^(1/15) -> 0.028926465 | R43: =(R27^9*R61^8)^(1/17) -> 0.030567629 | T43: =(T25^10*T63^9)^(1/19) -> 0.053400385 | V43: =(V23^11*V65^10)^(1/21) -> 0.035669707 | X43: =(X21^12*X67^11)^(1/23) -> 0.03622458 | Z43: =(Z19^13*Z69^12)^(1/25) -> 0.022815121
...

Sheet callable bond
A1: No we consider a hypothetical callable US Treasury Bond. This bond is 17.5 years old, has a 4% coupon rate, Matures in 12.5 years, and is callable starting in 7.5 years.
A2: (That is, it is callable--without any penalty starting in its 25th year.)
A4: To ascertain the value of this security, we will start at the end of its life, and work backwards through the tree:
A5: Semi-annual coupon rate: | D5: 0.02
Z19: =100*(1+$D$5) -> 102
Y20: =MIN(100,0.5*(Z19+Z21)*EXP(-bdt!Y20*0.5))+100*$D$5 -> 2.4120599
X21: =MIN(100,0.5*(Y20+Y22)*EXP(-bdt!X21*0.5))+100*$D$5 -> 2.0135641 | Z21: =100*(1+$D$5) -> 102
W22: =MIN(100,0.5*(X21+X23)*EXP(-bdt!W22*0.5))+100*$D$5 -> 2.0356213 | Y22: =MIN(100,0.5*(Z21+Z23)*EXP(-bdt!Y22*0.5))+100*$D$5 -> 5.8919056
V23: =MIN(100,0.5*(W22+W24)*EXP(-bdt!V23*0.5))+100*$D$5 -> 2.0132676 | X23: =MIN(100,0.5*(Y22+Y24)*EXP(-bdt!X23*0.5))+100*$D$5 -> 2.3804593 | Z23: =100*(1+$D$5) -> 102
U24: =MIN(100,0.5*(V23+V25)*EXP(-bdt!U24*0.5))+100*$D$5 -> 2.0050488 | W24: =MIN(100,0.5*(X23+X25)*EXP(-bdt!W24*0.5))+100*$D$5 -> 2.3392793 | Y24: =MIN(100,0.5*(Z23+Z25)*EXP(-bdt!Y24*0.5))+100*$D$5 -> 16.724939
T25: =MIN(100,0.5*(U24+U26)*EXP(-bdt!T25*0.5))+100*$D$5 -> 2.0266953 | V25: =MIN(100,0.5*(W24+W26)*EXP(-bdt!V25*0.5))+100*$D$5 -> 2.1867757 | X25: =MIN(100,0.5*(Y24+Y26)*EXP(-bdt!X25*0.5))+100*$D$5 -> 5.4248317 | Z25: =100*(1+$D$5) -> 102
S26: =MIN(100,0.5*(T25+T27)*EXP(-bdt!S26*0.5))+100*$D$5 -> 2.0926251 | U26: =MIN(100,0.5*(V25+V27)*EXP(-bdt!U26*0.5))+100*$D$5 -> 2.0941734 | W26: =MIN(100,0.5*(X25+X27)*EXP(-bdt!W26*0.5))+100*$D$5 -> 4.4468891 | Y26: =MIN(100,0.5*(Z25+Z27)*EXP(-bdt!Y26*0.5))+100*$D$5 -> 34.396928
R27: =MIN(100,0.5*(S26+S28)*EXP(-bdt!R27*0.5))+100*$D$5 -> 2.2477775 | T27: =MIN(100,0.5*(U26+U28)*EXP(-bdt!T27*0.5))+100*$D$5 -> 2.2145665 | V27: =MIN(100,0.5*(W26+W28)*EXP(-bdt!V27*0.5))+100*$D$5 -> 3.6007412 | X27: =MIN(100,0.5*(Y26+Y28)*EXP(-bdt!X27*0.5))+100*$D$5 -> 15.384623 | Z27: =100*(1+$D$5) -> 102
Q28: =MIN(100,0.5*(R27+R29)*EXP(-bdt!Q28*0.5))+100*$D$5 -> 2.1004468 | S28: =MIN(100,0.5*(T27+T29)*EXP(-bdt!S28*0.5))+100*$D$5 -> 2.4656664 | U28: =MIN(100,0.5*(V27+V29)*EXP(-bdt!U28*0.5))+100*$D$5 -> 2.9565211 | W28: =MIN(100,0.5*(X27+X29)*EXP(-bdt!W28*0.5))+100*$D$5 -> 12.171235 | Y28: =MIN(100,0.5*(Z27+Z29)*EXP(-bdt!Y28*0.5))+100*$D$5 -> 53.693409
P29: =MIN(100,0.5*(Q28+Q30)*EXP(-bdt!P29*0.5))+100*$D$5 -> 2.7875998 | R29: =MIN(100,0.5*(S28+S30)*EXP(-bdt!R29*0.5))+100*$D$5 -> 2.9976044 | T29: =MIN(100,0.5*(U28+U30)*EXP(-bdt!T29*0.5))+100*$D$5 -> 3.2985295 | V29: =MIN(100,0.5*(W28+W30)*EXP(-bdt!V29*0.5))+100*$D$5 -> 9.7836984 | X29: =MIN(100,0.5*(Y28+Y30)*EXP(-bdt!X29*0.5))+100*$D$5 -> 32.579118 | Z29: =100*(1+$D$5) -> 102
O30: =0.5*(P29+P31)*EXP(-bdt!O30*0.5)+100*$D$5 -> 2.0097548 | Q30: =MIN(100,0.5*(R29+R31)*EXP(-bdt!Q30*0.5))+100*$D$5 -> 2.7616208 | S30: =MIN(100,0.5*(T29+T31)*EXP(-bdt!S30*0.5))+100*$D$5 -> 4.0994724 | U30: =MIN(100,0.5*(V29+V31)*EXP(-bdt!U30*0.5))+100*$D$5 -> 7.5786499 | W30: =MIN(100,0.5*(X29+X31)*EXP(-bdt!W30*0.5))+100*$D$5 -> 27.497304 | Y30: =MIN(100,0.5*(Z29+Z31)*EXP(-bdt!Y30*0.5))+100*$D$5 -> 70.185099
N31: =0.5*(O30+O32)*EXP(-bdt!N31*0.5)+100*$D$5 -> 2.0664599 | P31: =MIN(100,0.5*(Q30+Q32)*EXP(-bdt!P31*0.5))+100*$D$5 -> 4.3664068 | R31: =MIN(100,0.5*(S30+S32)*EXP(-bdt!R31*0.5))+100*$D$5 -> 5.7768378 | T31: =MIN(100,0.5*(U30+U32)*EXP(-bdt!T31*0.5))+100*$D$5 -> 8.230127 | V31: =MIN(100,0.5*(W30+W32)*EXP(-bdt!V31*0.5))+100*$D$5 -> 23.900304 | X31: =MIN(100,0.5*(Y30+Y32)*EXP(-bdt!X31*0.5))+100*$D$5 -> 52.195951 | Z31: =100*(1+$D$5) -> 102
M32: =0.5*(N31+N33)*EXP(-bdt!M32*0.5)+100*$D$5 -> 2.1666688 | O32: =0.5*(P31+P33)*EXP(-bdt!O32*0.5)+100*$D$5 -> 2.6695672 | Q32: =MIN(100,0.5*(R31+R33)*EXP(-bdt!Q32*0.5))+100*$D$5 -> 5.904855 | S32: =MIN(100,0.5*(T31+T33)*EXP(-bdt!S32*0.5))+100*$D$5 -> 10.215375 | U32: =MIN(100,0.5*(V31+V33)*EXP(-bdt!U32*0.5))+100*$D$5 -> 20.023555 | W32: =MIN(100,0.5*(X31+X33)*EXP(-bdt!W32*0.5))+100*$D$5 -> 47.0114 | Y32: =MIN(100,0.5*(Z31+Z33)*EXP(-bdt!Y32*0.5))+100*$D$5 -> 82.343456
L33: =0.5*(M32+M34)*EXP(-bdt!L33*0.5)+100*$D$5 -> 2.4607606 | N33: =0.5*(O32+O34)*EXP(-bdt!N33*0.5)+100*$D$5 -> 3.327231 | P33: =MIN(100,0.5*(Q32+Q34)*EXP(-bdt!P33*0.5))+100*$D$5 -> 9.7434658 | R33: =MIN(100,0.5*(S32+S34)*EXP(-bdt!R33*0.5))+100*$D$5 -> 14.212329 | T33: =MIN(100,0.5*(U32+U34)*EXP(-bdt!T33*0.5))+100*$D$5 -> 20.930125 | V33: =MIN(100,0.5*(W32+W34)*EXP(-bdt!V33*0.5))+100*$D$5 -> 43.61768 | X33: =MIN(100,0.5*(Y32+Y34)*EXP(-bdt!X33*0.5))+100*$D$5 -> 69.468107 | Z33: =100*(1+$D$5) -> 102
K34: =0.5*(L33+L35)*EXP(-bdt!K34*0.5)+100*$D$5 -> 4.8939225 | M34: =0.5*(N33+N35)*EXP(-bdt!M34*0.5)+100*$D$5 -> 4.406735 | O34: =0.5*(P33+P35)*EXP(-bdt!O34*0.5)+100*$D$5 -> 8.3152453 | Q34: =MIN(100,0.5*(R33+R35)*EXP(-bdt!Q34*0.5))+100*$D$5 -> 15.522948 | S34: =MIN(100,0.5*(T33+T35)*EXP(-bdt!S34*0.5))+100*$D$5 -> 24.207008 | U34: =MIN(100,0.5*(V33+V35)*EXP(-bdt!U34*0.5))+100*$D$5 -> 39.456328 | W34: =MIN(100,0.5*(X33+X35)*EXP(-bdt!W34*0.5))+100*$D$5 -> 65.540794 | Y34: =MIN(100,0.5*(Z33+Z35)*EXP(-bdt!Y34*0.5))+100*$D$5 -> 90.548012
J35: =0.5*(K34+K36)*EXP(-bdt!J35*0.5)+100*$D$5 -> 8.3401743 | L35: =0.5*(M34+M36)*EXP(-bdt!L35*0.5)+100*$D$5 -> 6.5609801 | N35: =0.5*(O34+O36)*EXP(-bdt!N35*0.5)+100*$D$5 -> 11.282267 | P35: =MIN(100,0.5*(Q34+Q36)*EXP(-bdt!P35*0.5))+100*$D$5 -> 22.563411 | R35: =MIN(100,0.5*(S34+S36)*EXP(-bdt!R35*0.5))+100*$D$5 -> 30.577005 | T35: =MIN(100,0.5*(U34+U36)*EXP(-bdt!T35*0.5))+100*$D$5 -> 40.590512 | V35: =MIN(100,0.5*(W34+W36)*EXP(-bdt!V35*0.5))+100*$D$5 -> 63.375242 | X35: =MIN(100,0.5*(Y34+Y36)*EXP(-bdt!X35*0.5))+100*$D$5 -> 82.446206 | Z35: =100*(1+$D$5) -> 102
I36: =0.5*(J35+J37)*EXP(-bdt!I36*0.5)+100*$D$5 -> 14.572931 | K36: =0.5*(L35+L37)*EXP(-bdt!K36*0.5)+100*$D$5 -> 13.59912 | M36: =0.5*(N35+N37)*EXP(-bdt!M36*0.5)+100*$D$5 -> 15.564137 | O36: =0.5*(P35+P37)*EXP(-bdt!O36*0.5)+100*$D$5 -> 24.395032 | Q36: =MIN(100,0.5*(R35+R37)*EXP(-bdt!Q36*0.5))+100*$D$5 -> 33.433639 | S36: =MIN(100,0.5*(T35+T37)*EXP(-bdt!S36*0.5))+100*$D$5 -> 44.504058 | U36: =MIN(100,0.5*(V35+V37)*EXP(-bdt!U36*0.5))+100*$D$5 -> 60.299615 | W36: =MIN(100,0.5*(X35+X37)*EXP(-bdt!W36*0.5))+100*$D$5 -> 80.157198 | Y36: =MIN(100,0.5*(Z35+Z37)*EXP(-bdt!Y36*0.5))+100*$D$5 -> 95.799976
H37: =0.5*(I36+I38)*EXP(-bdt!H37*0.5)+100*$D$5 -> 22.373007 | J37: =0.5*(K36+K38)*EXP(-bdt!J37*0.5)+100*$D$5 -> 21.962546 | L37: =0.5*(M36+M38)*EXP(-bdt!L37*0.5)+100*$D$5 -> 21.88472 | N37: =0.5*(O36+O38)*EXP(-bdt!N37*0.5)+100*$D$5 -> 30.957857 | P37: =MIN(100,0.5*(Q36+Q38)*EXP(-bdt!P37*0.5))+100*$D$5 -> 42.577087 | R37: =MIN(100,0.5*(S36+S38)*EXP(-bdt!R37*0.5))+100*$D$5 -> 51.83846 | T37: =MIN(100,0.5*(U36+U38)*EXP(-bdt!T37*0.5))+100*$D$5 -> 61.698433 | V37: =MIN(100,0.5*(W36+W38)*EXP(-bdt!V37*0.5))+100*$D$5 -> 79.388348 | X37: =MIN(100,0.5*(Y36+Y38)*EXP(-bdt!X37*0.5))+100*$D$5 -> 91.307437 | Z37: =100*(1+$D$5) -> 102
G38: =0.5*(H37+H39)*EXP(-bdt!G38*0.5)+100*$D$5 -> 33.335017 | I38: =0.5*(J37+J39)*EXP(-bdt!I38*0.5)+100*$D$5 -> 33.081705 | K38: =0.5*(L37+L39)*EXP(-bdt!K38*0.5)+100*$D$5 -> 33.883245 | M38: =0.5*(N37+N39)*EXP(-bdt!M38*0.5)+100*$D$5 -> 38.794948 | O38: =0.5*(P37+P39)*EXP(-bdt!O38*0.5)+100*$D$5 -> 48.199988 | Q38: =MIN(100,0.5*(R37+R39)*EXP(-bdt!Q38*0.5))+100*$D$5 -> 55.677921 | S38: =MIN(100,0.5*(T37+T39)*EXP(-bdt!S38*0.5))+100*$D$5 -> 65.528838 | U38: =MIN(100,0.5*(V37+V39)*EXP(-bdt!U38*0.5))+100*$D$5 -> 77.828119 | W38: =MIN(100,0.5*(X37+X39)*EXP(-bdt!W38*0.5))+100*$D$5 -> 90.443119 | Y38: =MIN(100,0.5*(Z37+Z39)*EXP(-bdt!Y38*0.5))+100*$D$5 -> 99.058047
F39: =0.5*(G38+G40)*EXP(-bdt!F39*0.5)+100*$D$5 -> 45.263361 | H39: =0.5*(I38+I40)*EXP(-bdt!H39*0.5)+100*$D$5 -> 44.710778 | J39: =0.5*(K38+K40)*EXP(-bdt!J39*0.5)+100*$D$5 -> 45.763202 | L39: =0.5*(M38+M40)*EXP(-bdt!L39*0.5)+100*$D$5 -> 48.144351 | N39: =0.5*(O38+O40)*EXP(-bdt!N39*0.5)+100*$D$5 -> 56.84587 | P39: =MIN(100,0.5*(Q38+Q40)*EXP(-bdt!P39*0.5))+100*$D$5 -> 64.710131 | R39: =MIN(100,0.5*(S38+S40)*EXP(-bdt!R39*0.5))+100*$D$5 -> 72.308776 | T39: =MIN(100,0.5*(U38+U40)*EXP(-bdt!T39*0.5))+100*$D$5 -> 79.440802 | V39: =MIN(100,0.5*(W38+W40)*EXP(-bdt!V39*0.5))+100*$D$5 -> 90.748064 | X39: =MIN(100,0.5*(Y38+Y40)*EXP(-bdt!X39*0.5))+100*$D$5 -> 97.020373 | Z39: =100*(1+$D$5) -> 102
E40: =0.5*(F39+F41)*EXP(-bdt!E40*0.5)+100*$D$5 -> 58.203823 | G40: =0.5*(H39+H41)*EXP(-bdt!G40*0.5)+100*$D$5 -> 57.757225 | I40: =0.5*(J39+J41)*EXP(-bdt!I40*0.5)+100*$D$5 -> 58.712736 | K40: =0.5*(L39+L41)*EXP(-bdt!K40*0.5)+100*$D$5 -> 60.898835 | M40: =0.5*(N39+N41)*EXP(-bdt!M40*0.5)+100*$D$5 -> 65.743904 | O40: =0.5*(P39+P41)*EXP(-bdt!O40*0.5)+100*$D$5 -> 71.833539 | Q40: =MIN(100,0.5*(R39+R41)*EXP(-bdt!Q40*0.5))+100*$D$5 -> 76.199826 | S40: =MIN(100,0.5*(T39+T41)*EXP(-bdt!S40*0.5))+100*$D$5 -> 82.750416 | U40: =MIN(100,0.5*(V39+V41)*EXP(-bdt!U40*0.5))+100*$D$5 -> 90.418189 | W40: =MIN(100,0.5*(X39+X41)*EXP(-bdt!W40*0.5))+100*$D$5 -> 97.14245 | Y40: =MIN(100,0.5*(Z39+Z41)*EXP(-bdt!Y40*0.5))+100*$D$5 -> 101.04189
D41: =0.5*(E40+E42)*EXP(-bdt!D41*0.5)+100*$D$5 -> 70.628468 | F41: =0.5*(G40+G42)*EXP(-bdt!F41*0.5)+100*$D$5 -> 70.194875 | H41: =0.5*(I40+I42)*EXP(-bdt!H41*0.5)+100*$D$5 -> 70.609343 | J41: =0.5*(K40+K42)*EXP(-bdt!J41*0.5)+100*$D$5 -> 72.217043 | L41: =0.5*(M40+M42)*EXP(-bdt!L41*0.5)+100*$D$5 -> 74.833836 | N41: =0.5*(O40+O42)*EXP(-bdt!N41*0.5)+100*$D$5 -> 79.944729 | P41: =MIN(100,0.5*(Q40+Q42)*EXP(-bdt!P41*0.5))+100*$D$5 -> 83.530777 | R41: =MIN(100,0.5*(S40+S42)*EXP(-bdt!R41*0.5))+100*$D$5 -> 88.129099 | T41: =MIN(100,0.5*(U40+U42)*EXP(-bdt!T41*0.5))+100*$D$5 -> 91.994732 | V41: =MIN(100,0.5*(W40+W42)*EXP(-bdt!V41*0.5))+100*$D$5 -> 98.022536 | X41: =MIN(100,0.5*(Y40+Y42)*EXP(-bdt!X41*0.5))+100*$D$5 -> 100.46492 | Z41: =100*(1+$D$5) -> 102
C42: =0.5*(D41+D43)*EXP(-bdt!C42*0.5)+100*$D$5 -> 82.477167 | E42: =0.5*(F41+F43)*EXP(-bdt!E42*0.5)+100*$D$5 -> 82.123657 | G42: =0.5*(H41+H43)*EXP(-bdt!G42*0.5)+100*$D$5 -> 82.13466 | I42: =0.5*(J41+J43)*EXP(-bdt!I42*0.5)+100*$D$5 -> 83.117633 | K42: =0.5*(L41+L43)*EXP(-bdt!K42*0.5)+100*$D$5 -> 84.768486 | M42: =0.5*(N41+N43)*EXP(-bdt!M42*0.5)+100*$D$5 -> 87.347599 | O42: =0.5*(P41+P43)*EXP(-bdt!O42*0.5)+100*$D$5 -> 89.759308 | Q42: =MIN(100,0.5*(R41+R43)*EXP(-bdt!Q42*0.5))+100*$D$5 -> 91.315448 | S42: =MIN(100,0.5*(T41+T43)*EXP(-bdt!S42*0.5))+100*$D$5 -> 94.483446 | U42: =MIN(100,0.5*(V41+V43)*EXP(-bdt!U42*0.5))+100*$D$5 -> 98.234582 | W42: =MIN(100,0.5*(X41+X43)*EXP(-bdt!W42*0.5))+100*$D$5 -> 101.02871 | Y42: =MIN(100,0.5*(Z41+Z43)*EXP(-bdt!Y42*0.5))+100*$D$5 -> 102
B43: =0.5*(C42+C44)*EXP(-bdt!B43*0.5)+100*$D$5 -> 93.310321 | D43: =0.5*(E42+E44)*EXP(-bdt!D43*0.5)+100*$D$5 -> 92.524743 | F43: =0.5*(G42+G44)*EXP(-bdt!F43*0.5)+100*$D$5 -> 92.182189 | H43: =0.5*(I42+I44)*EXP(-bdt!H43*0.5)+100*$D$5 -> 92.333897 | J43: =0.5*(K42+K44)*EXP(-bdt!J43*0.5)+100*$D$5 -> 92.979345 | L43: =0.5*(M42+M44)*EXP(-bdt!L43*0.5)+100*$D$5 -> 94.00874 | N43: =0.5*(O42+O44)*EXP(-bdt!N43*0.5)+100*$D$5 -> 95.61315 | P43: =MIN(100,0.5*(Q42+Q44)*EXP(-bdt!P43*0.5))+100*$D$5 -> 96.20822 | R43: =MIN(100,0.5*(S42+S44)*EXP(-bdt!R43*0.5))+100*$D$5 -> 98.138756 | T43: =MIN(100,0.5*(U42+U44)*EXP(-bdt!T43*0.5))+100*$D$5 -> 99.35121 | V43: =MIN(100,0.5*(W42+W44)*EXP(-bdt!V43*0.5))+100*$D$5 -> 101.71991 | X43: =MIN(100,0.5*(Y42+Y44)*EXP(-bdt!X43*0.5))+100*$D$5 -> 102 | Z43: =100*(1+$D$5) -> 102
A44: =0.5*(B43+B45)*EXP(-bdt!A44*0.5) -> 101.17738 | C44: =0.5*(D43+D45)*EXP(-bdt!C44*0.5)+100*$D$5 -> 101.74334 | E44: =0.5*(F43+F45)*EXP(-bdt!E44*0.5)+100*$D$5 -> 101.08857 | G44: =0.5*(H43+H45)*EXP(-bdt!G44*0.5)+100*$D$5 -> 100.49859 | I44: =0.5*(J43+J45)*EXP(-bdt!I44*0.5)+100*$D$5 -> 100.31474 | K44: =0.5*(L43+L45)*EXP(-bdt!K44*0.5)+100*$D$5 -> 100.27449 | M44: =0.5*(N43+N45)*EXP(-bdt!M44*0.5)+100*$D$5 -> 100.35436 | O44: =0.5*(P43+P45)*EXP(-bdt!O44*0.5)+100*$D$5 -> 100.16941 | Q44: =MIN(100,0.5*(R43+R45)*EXP(-bdt!Q44*0.5))+100*$D$5 -> 99.845906 | S44: =MIN(100,0.5*(T43+T45)*EXP(-bdt!S44*0.5))+100*$D$5 -> 100.75537 | U44: =MIN(100,0.5*(V43+V45)*EXP(-bdt!U44*0.5))+100*$D$5 -> 101.73645 | W44: =MIN(100,0.5*(X43+X45)*EXP(-bdt!W44*0.5))+100*$D$5 -> 102 | Y44: =MIN(100,0.5*(Z43+Z45)*EXP(-bdt!Y44*0.5))+100*$D$5 -> 102
B45: =0.5*(C44+C46)*EXP(-bdt!B45*0.5)+100*$D$5 -> 109.71332 | D45: =0.5*(E44+E46)*EXP(-bdt!D45*0.5)+100*$D$5 -> 108.42009 | F45: =0.5*(G44+G46)*EXP(-bdt!F45*0.5)+100*$D$5 -> 107.28928 | H45: =0.5*(I44+I46)*EXP(-bdt!H45*0.5)+100*$D$5 -> 106.27705 | J45: =0.5*(K44+K46)*EXP(-bdt!J45*0.5)+100*$D$5 -> 105.29084 | L45: =0.5*(M44+M46)*EXP(-bdt!L45*0.5)+100*$D$5 -> 104.33373 | N45: =0.5*(O44+O46)*EXP(-bdt!N45*0.5)+100*$D$5 -> 103.31162 | P45: =MIN(100,0.5*(Q44+Q46)*EXP(-bdt!P45*0.5))+100*$D$5 -> 102 | R45: =MIN(100,0.5*(S44+S46)*EXP(-bdt!R45*0.5))+100*$D$5 -> 102 | T45: =MIN(100,0.5*(U44+U46)*EXP(-bdt!T45*0.5))+100*$D$5 -> 102 | V45: =MIN(100,0.5*(W44+W46)*EXP(-bdt!V45*0.5))+100*$D$5 -> 102 | X45: =MIN(100,0.5*(Y44+Y46)*EXP(-bdt!X45*0.5))+100*$D$5 -> 102 | Z45: =100*(1+$D$5) -> 102
C46: =0.5*(D45+D47)*EXP(-bdt!C46*0.5)+100*$D$5 -> 114.69421 | E46: =0.5*(F45+F47)*EXP(-bdt!E46*0.5)+100*$D$5 -> 113.1125 | G46: =0.5*(H45+H47)*EXP(-bdt!G46*0.5)+100*$D$5 -> 111.38195 | I46: =0.5*(J45+J47)*EXP(-bdt!I46*0.5)+100*$D$5 -> 109.69944 | K46: =0.5*(L45+L47)*EXP(-bdt!K46*0.5)+100*$D$5 -> 107.90857 | M46: =0.5*(N45+N47)*EXP(-bdt!M46*0.5)+100*$D$5 -> 105.93771 | O46: =0.5*(P45+P47)*EXP(-bdt!O46*0.5)+100*$D$5 -> 103.61523 | Q46: =MIN(100,0.5*(R45+R47)*EXP(-bdt!Q46*0.5))+100*$D$5 -> 102 | S46: =MIN(100,0.5*(T45+T47)*EXP(-bdt!S46*0.5))+100*$D$5 -> 102 | U46: =MIN(100,0.5*(V45+V47)*EXP(-bdt!U46*0.5))+100*$D$5 -> 102 | W46: =MIN(100,0.5*(X45+X47)*EXP(-bdt!W46*0.5))+100*$D$5 -> 102 | Y46: =MIN(100,0.5*(Z45+Z47)*EXP(-bdt!Y46*0.5))+100*$D$5 -> 102
D47: =0.5*(E46+E48)*EXP(-bdt!D47*0.5)+100*$D$5 -> 117.8511 | F47: =0.5*(G46+G48)*EXP(-bdt!F47*0.5)+100*$D$5 -> 115.65016 | H47: =0.5*(I46+I48)*EXP(-bdt!H47*0.5)+100*$D$5 -> 113.36864 | J47: =0.5*(K46+K48)*EXP(-bdt!J47*0.5)+100*$D$5 -> 110.93189 | L47: =0.5*(M46+M48)*EXP(-bdt!L47*0.5)+100*$D$5 -> 108.36918 | N47: =0.5*(O46+O48)*EXP(-bdt!N47*0.5)+100*$D$5 -> 105.49462 | P47: =MIN(100,0.5*(Q46+Q48)*EXP(-bdt!P47*0.5))+100*$D$5 -> 102 | R47: =MIN(100,0.5*(S46+S48)*EXP(-bdt!R47*0.5))+100*$D$5 -> 102 | T47: =MIN(100,0.5*(U46+U48)*EXP(-bdt!T47*0.5))+100*$D$5 -> 102 | V47: =MIN(100,0.5*(W46+W48)*EXP(-bdt!V47*0.5))+100*$D$5 -> 102 | X47: =MIN(100,0.5*(Y46+Y48)*EXP(-bdt!X47*0.5))+100*$D$5 -> 102 | Z47: =100*(1+$D$5) -> 102
E48: =0.5*(F47+F49)*EXP(-bdt!E48*0.5)+100*$D$5 -> 119.3837 | G48: =0.5*(H47+H49)*EXP(-bdt!G48*0.5)+100*$D$5 -> 116.61023 | I48: =0.5*(J47+J49)*EXP(-bdt!I48*0.5)+100*$D$5 -> 113.75289 | K48: =0.5*(L47+L49)*EXP(-bdt!K48*0.5)+100*$D$5 -> 110.72946 | M48: =0.5*(N47+N49)*EXP(-bdt!M48*0.5)+100*$D$5 -> 107.47254 | O48: =0.5*(P47+P49)*EXP(-bdt!O48*0.5)+100*$D$5 -> 103.84637 | Q48: =MIN(100,0.5*(R47+R49)*EXP(-bdt!Q48*0.5))+100*$D$5 -> 102 | S48: =MIN(100,0.5*(T47+T49)*EXP(-bdt!S48*0.5))+100*$D$5 -> 102 | U48: =MIN(100,0.5*(V47+V49)*EXP(-bdt!U48*0.5))+100*$D$5 -> 102 | W48: =MIN(100,0.5*(X47+X49)*EXP(-bdt!W48*0.5))+100*$D$5 -> 102 | Y48: =MIN(100,0.5*(Z47+Z49)*EXP(-bdt!Y48*0.5))+100*$D$5 -> 102
F49: =0.5*(G48+G50)*EXP(-bdt!F49*0.5)+100*$D$5 -> 119.48909 | H49: =0.5*(I48+I50)*EXP(-bdt!H49*0.5)+100*$D$5 -> 116.30692 | J49: =0.5*(K48+K50)*EXP(-bdt!J49*0.5)+100*$D$5 -> 112.96621 | L49: =0.5*(M48+M50)*EXP(-bdt!L49*0.5)+100*$D$5 -> 109.50704 | N49: =0.5*(O48+O50)*EXP(-bdt!N49*0.5)+100*$D$5 -> 105.82667 | P49: =MIN(100,0.5*(Q48+Q50)*EXP(-bdt!P49*0.5))+100*$D$5 -> 102 | R49: =MIN(100,0.5*(S48+S50)*EXP(-bdt!R49*0.5))+100*$D$5 -> 102 | T49: =MIN(100,0.5*(U48+U50)*EXP(-bdt!T49*0.5))+100*$D$5 -> 102 | V49: =MIN(100,0.5*(W48+W50)*EXP(-bdt!V49*0.5))+100*$D$5 -> 102 | X49: =MIN(100,0.5*(Y48+Y50)*EXP(-bdt!X49*0.5))+100*$D$5 -> 102 | Z49: =100*(1+$D$5) -> 102
G50: =0.5*(H49+H51)*EXP(-bdt!G50*0.5)+100*$D$5 -> 118.72033 | I50: =0.5*(J49+J51)*EXP(-bdt!I50*0.5)+100*$D$5 -> 115.19782 | K50: =0.5*(L49+L51)*EXP(-bdt!K50*0.5)+100*$D$5 -> 111.56494 | M50: =0.5*(N49+N51)*EXP(-bdt!M50*0.5)+100*$D$5 -> 107.81211 | O50: =0.5*(P49+P51)*EXP(-bdt!O50*0.5)+100*$D$5 -> 103.99584 | Q50: =MIN(100,0.5*(R49+R51)*EXP(-bdt!Q50*0.5))+100*$D$5 -> 102 | S50: =MIN(100,0.5*(T49+T51)*EXP(-bdt!S50*0.5))+100*$D$5 -> 102 | U50: =MIN(100,0.5*(V49+V51)*EXP(-bdt!U50*0.5))+100*$D$5 -> 102 | W50: =MIN(100,0.5*(X49+X51)*EXP(-bdt!W50*0.5))+100*$D$5 -> 102 | Y50: =MIN(100,0.5*(Z49+Z51)*EXP(-bdt!Y50*0.5))+100*$D$5 -> 102
H51: =0.5*(I50+I52)*EXP(-bdt!H51*0.5)+100*$D$5 -> 117.36214 | J51: =0.5*(K50+K52)*EXP(-bdt!J51*0.5)+100*$D$5 -> 113.61191 | L51: =0.5*(M50+M52)*EXP(-bdt!L51*0.5)+100*$D$5 -> 109.81592 | N51: =0.5*(O50+O52)*EXP(-bdt!N51*0.5)+100*$D$5 -> 105.948 | P51: =MIN(100,0.5*(Q50+Q52)*EXP(-bdt!P51*0.5))+100*$D$5 -> 102 | R51: =MIN(100,0.5*(S50+S52)*EXP(-bdt!R51*0.5))+100*$D$5 -> 102 | T51: =MIN(100,0.5*(U50+U52)*EXP(-bdt!T51*0.5))+100*$D$5 -> 102 | V51: =MIN(100,0.5*(W50+W52)*EXP(-bdt!V51*0.5))+100*$D$5 -> 102 | X51: =MIN(100,0.5*(Y50+Y52)*EXP(-bdt!X51*0.5))+100*$D$5 -> 102 | Z51: =100*(1+$D$5) -> 102
I52: =0.5*(J51+J53)*EXP(-bdt!I52*0.5)+100*$D$5 -> 115.68259 | K52: =0.5*(L51+L53)*EXP(-bdt!K52*0.5)+100*$D$5 -> 111.82608 | M52: =0.5*(N51+N53)*EXP(-bdt!M52*0.5)+100*$D$5 -> 107.9279 | O52: =0.5*(P51+P53)*EXP(-bdt!O52*0.5)+100*$D$5 -> 103.97555 | Q52: =MIN(100,0.5*(R51+R53)*EXP(-bdt!Q52*0.5))+100*$D$5 -> 102 | S52: =MIN(100,0.5*(T51+T53)*EXP(-bdt!S52*0.5))+100*$D$5 -> 102 | U52: =MIN(100,0.5*(V51+V53)*EXP(-bdt!U52*0.5))+100*$D$5 -> 102 | W52: =MIN(100,0.5*(X51+X53)*EXP(-bdt!W52*0.5))+100*$D$5 -> 102 | Y52: =MIN(100,0.5*(Z51+Z53)*EXP(-bdt!Y52*0.5))+100*$D$5 -> 102
J53: =0.5*(K52+K54)*EXP(-bdt!J53*0.5)+100*$D$5 -> 113.83745 | L53: =0.5*(M52+M54)*EXP(-bdt!L53*0.5)+100*$D$5 -> 109.92513 | N53: =0.5*(O52+O54)*EXP(-bdt!N53*0.5)+100*$D$5 -> 105.96786 | P53: =MIN(100,0.5*(Q52+Q54)*EXP(-bdt!P53*0.5))+100*$D$5 -> 102 | R53: =MIN(100,0.5*(S52+S54)*EXP(-bdt!R53*0.5))+100*$D$5 -> 102 | T53: =MIN(100,0.5*(U52+U54)*EXP(-bdt!T53*0.5))+100*$D$5 -> 102 | V53: =MIN(100,0.5*(W52+W54)*EXP(-bdt!V53*0.5))+100*$D$5 -> 102 | X53: =MIN(100,0.5*(Y52+Y54)*EXP(-bdt!X53*0.5))+100*$D$5 -> 102 | Z53: =100*(1+$D$5) -> 102
K54: =0.5*(L53+L55)*EXP(-bdt!K54*0.5)+100*$D$5 -> 111.92577 | M54: =0.5*(N53+N55)*EXP(-bdt!M54*0.5)+100*$D$5 -> 107.96554 | O54: =0.5*(P53+P55)*EXP(-bdt!O54*0.5)+100*$D$5 -> 103.99025 | Q54: =MIN(100,0.5*(R53+R55)*EXP(-bdt!Q54*0.5))+100*$D$5 -> 102 | S54: =MIN(100,0.5*(T53+T55)*EXP(-bdt!S54*0.5))+100*$D$5 -> 102 | U54: =MIN(100,0.5*(V53+V55)*EXP(-bdt!U54*0.5))+100*$D$5 -> 102 | W54: =MIN(100,0.5*(X53+X55)*EXP(-bdt!W54*0.5))+100*$D$5 -> 102 | Y54: =MIN(100,0.5*(Z53+Z55)*EXP(-bdt!Y54*0.5))+100*$D$5 -> 102
...

Sheet noncallable bond
D5: 0.02
Z19: =100*(1+$D$5) -> 102
Y20: =0.5*(Z19+Z21)*EXP(-bdt!Y20*0.5)+100*$D$5 -> 2.4120599
X21: =0.5*(Y20+Y22)*EXP(-bdt!X21*0.5)+100*$D$5 -> 2.0135641 | Z21: =100*(1+$D$5) -> 102
W22: =0.5*(X21+X23)*EXP(-bdt!W22*0.5)+100*$D$5 -> 2.0356213 | Y22: =0.5*(Z21+Z23)*EXP(-bdt!Y22*0.5)+100*$D$5 -> 5.8919056
V23: =0.5*(W22+W24)*EXP(-bdt!V23*0.5)+100*$D$5 -> 2.0132676 | X23: =0.5*(Y22+Y24)*EXP(-bdt!X23*0.5)+100*$D$5 -> 2.3804593 | Z23: =100*(1+$D$5) -> 102
U24: =0.5*(V23+V25)*EXP(-bdt!U24*0.5)+100*$D$5 -> 2.0050488 | W24: =0.5*(X23+X25)*EXP(-bdt!W24*0.5)+100*$D$5 -> 2.3392793 | Y24: =0.5*(Z23+Z25)*EXP(-bdt!Y24*0.5)+100*$D$5 -> 16.724939
T25: =0.5*(U24+U26)*EXP(-bdt!T25*0.5)+100*$D$5 -> 2.0266953 | V25: =0.5*(W24+W26)*EXP(-bdt!V25*0.5)+100*$D$5 -> 2.1867757 | X25: =0.5*(Y24+Y26)*EXP(-bdt!X25*0.5)+100*$D$5 -> 5.4248317 | Z25: =100*(1+$D$5) -> 102
S26: =0.5*(T25+T27)*EXP(-bdt!S26*0.5)+100*$D$5 -> 2.0926251 | U26: =0.5*(V25+V27)*EXP(-bdt!U26*0.5)+100*$D$5 -> 2.0941734 | W26: =0.5*(X25+X27)*EXP(-bdt!W26*0.5)+100*$D$5 -> 4.4468891 | Y26: =0.5*(Z25+Z27)*EXP(-bdt!Y26*0.5)+100*$D$5 -> 34.396928
R27: =0.5*(S26+S28)*EXP(-bdt!R27*0.5)+100*$D$5 -> 2.2477775 | T27: =0.5*(U26+U28)*EXP(-bdt!T27*0.5)+100*$D$5 -> 2.2145665 | V27: =0.5*(W26+W28)*EXP(-bdt!V27*0.5)+100*$D$5 -> 3.6007412 | X27: =0.5*(Y26+Y28)*EXP(-bdt!X27*0.5)+100*$D$5 -> 15.384623 | Z27: =100*(1+$D$5) -> 102
Q28: =0.5*(R27+R29)*EXP(-bdt!Q28*0.5)+100*$D$5 -> 2.1004468 | S28: =0.5*(T27+T29)*EXP(-bdt!S28*0.5)+100*$D$5 -> 2.4656664 | U28: =0.5*(V27+V29)*EXP(-bdt!U28*0.5)+100*$D$5 -> 2.9565211 | W28: =0.5*(X27+X29)*EXP(-bdt!W28*0.5)+100*$D$5 -> 12.171235 | Y28: =0.5*(Z27+Z29)*EXP(-bdt!Y28*0.5)+100*$D$5 -> 53.693409
P29: =0.5*(Q28+Q30)*EXP(-bdt!P29*0.5)+100*$D$5 -> 2.7875998 | R29: =0.5*(S28+S30)*EXP(-bdt!R29*0.5)+100*$D$5 -> 2.9976044 | T29: =0.5*(U28+U30)*EXP(-bdt!T29*0.5)+100*$D$5 -> 3.2985295 | V29: =0.5*(W28+W30)*EXP(-bdt!V29*0.5)+100*$D$5 -> 9.7836984 | X29: =0.5*(Y28+Y30)*EXP(-bdt!X29*0.5)+100*$D$5 -> 32.579118 | Z29: =100*(1+$D$5) -> 102
O30: =0.5*(P29+P31)*EXP(-bdt!O30*0.5)+100*$D$5 -> 2.0097548 | Q30: =0.5*(R29+R31)*EXP(-bdt!Q30*0.5)+100*$D$5 -> 2.7616208 | S30: =0.5*(T29+T31)*EXP(-bdt!S30*0.5)+100*$D$5 -> 4.0994724 | U30: =0.5*(V29+V31)*EXP(-bdt!U30*0.5)+100*$D$5 -> 7.5786499 | W30: =0.5*(X29+X31)*EXP(-bdt!W30*0.5)+100*$D$5 -> 27.497304 | Y30: =0.5*(Z29+Z31)*EXP(-bdt!Y30*0.5)+100*$D$5 -> 70.185099
N31: =0.5*(O30+O32)*EXP(-bdt!N31*0.5)+100*$D$5 -> 2.06646 | P31: =0.5*(Q30+Q32)*EXP(-bdt!P31*0.5)+100*$D$5 -> 4.3664068 | R31: =0.5*(S30+S32)*EXP(-bdt!R31*0.5)+100*$D$5 -> 5.7768378 | T31: =0.5*(U30+U32)*EXP(-bdt!T31*0.5)+100*$D$5 -> 8.230127 | V31: =0.5*(W30+W32)*EXP(-bdt!V31*0.5)+100*$D$5 -> 23.900304 | X31: =0.5*(Y30+Y32)*EXP(-bdt!X31*0.5)+100*$D$5 -> 52.195951 | Z31: =100*(1+$D$5) -> 102
M32: =0.5*(N31+N33)*EXP(-bdt!M32*0.5)+100*$D$5 -> 2.1666708 | O32: =0.5*(P31+P33)*EXP(-bdt!O32*0.5)+100*$D$5 -> 2.6695717 | Q32: =0.5*(R31+R33)*EXP(-bdt!Q32*0.5)+100*$D$5 -> 5.904855 | S32: =0.5*(T31+T33)*EXP(-bdt!S32*0.5)+100*$D$5 -> 10.215375 | U32: =0.5*(V31+V33)*EXP(-bdt!U32*0.5)+100*$D$5 -> 20.023555 | W32: =0.5*(X31+X33)*EXP(-bdt!W32*0.5)+100*$D$5 -> 47.0114 | Y32: =0.5*(Z31+Z33)*EXP(-bdt!Y32*0.5)+100*$D$5 -> 82.343456
L33: =0.5*(M32+M34)*EXP(-bdt!L33*0.5)+100*$D$5 -> 2.4607978 | N33: =0.5*(O32+O34)*EXP(-bdt!N33*0.5)+100*$D$5 -> 3.3272942 | P33: =0.5*(Q32+Q34)*EXP(-bdt!P33*0.5)+100*$D$5 -> 9.7435608 | R33: =0.5*(S32+S34)*EXP(-bdt!R33*0.5)+100*$D$5 -> 14.212329 | T33: =0.5*(U32+U34)*EXP(-bdt!T33*0.5)+100*$D$5 -> 20.930125 | V33: =0.5*(W32+W34)*EXP(-bdt!V33*0.5)+100*$D$5 -> 43.61768 | X33: =0.5*(Y32+Y34)*EXP(-bdt!X33*0.5)+100*$D$5 -> 69.468107 | Z33: =100*(1+$D$5) -> 102
K34: =0.5*(L33+L35)*EXP(-bdt!K34*0.5)+100*$D$5 -> 4.8949666 | M34: =0.5*(N33+N35)*EXP(-bdt!M34*0.5)+100*$D$5 -> 4.4072644 | O34: =0.5*(P33+P35)*EXP(-bdt!O34*0.5)+100*$D$5 -> 8.3157646 | Q34: =0.5*(R33+R35)*EXP(-bdt!Q34*0.5)+100*$D$5 -> 15.52321 | S34: =0.5*(T33+T35)*EXP(-bdt!S34*0.5)+100*$D$5 -> 24.207008 | U34: =0.5*(V33+V35)*EXP(-bdt!U34*0.5)+100*$D$5 -> 39.456328 | W34: =0.5*(X33+X35)*EXP(-bdt!W34*0.5)+100*$D$5 -> 65.540794 | Y34: =0.5*(Z33+Z35)*EXP(-bdt!Y34*0.5)+100*$D$5 -> 90.548012
J35: =0.5*(K34+K36)*EXP(-bdt!J35*0.5)+100*$D$5 -> 8.3474612 | L35: =0.5*(M34+M36)*EXP(-bdt!L35*0.5)+100*$D$5 -> 6.5641978 | N35: =0.5*(O34+O36)*EXP(-bdt!N35*0.5)+100*$D$5 -> 11.285417 | P35: =0.5*(Q34+Q36)*EXP(-bdt!P35*0.5)+100*$D$5 -> 22.565972 | R35: =0.5*(S34+S36)*EXP(-bdt!R35*0.5)+100*$D$5 -> 30.577876 | T35: =0.5*(U34+U36)*EXP(-bdt!T35*0.5)+100*$D$5 -> 40.590512 | V35: =0.5*(W34+W36)*EXP(-bdt!V35*0.5)+100*$D$5 -> 63.375242 | X35: =0.5*(Y34+Y36)*EXP(-bdt!X35*0.5)+100*$D$5 -> 82.446206 | Z35: =100*(1+$D$5) -> 102
I36: =0.5*(J35+J37)*EXP(-bdt!I36*0.5)+100*$D$5 -> 14.605685 | K36: =0.5*(L35+L37)*EXP(-bdt!K36*0.5)+100*$D$5 -> 13.619331 | M36: =0.5*(N35+N37)*EXP(-bdt!M36*0.5)+100*$D$5 -> 15.577697 | O36: =0.5*(P35+P37)*EXP(-bdt!O36*0.5)+100*$D$5 -> 24.405614 | Q36: =0.5*(R35+R37)*EXP(-bdt!Q36*0.5)+100*$D$5 -> 33.439474 | S36: =0.5*(T35+T37)*EXP(-bdt!S36*0.5)+100*$D$5 -> 44.506151 | U36: =0.5*(V35+V37)*EXP(-bdt!U36*0.5)+100*$D$5 -> 60.299615 | W36: =0.5*(X35+X37)*EXP(-bdt!W36*0.5)+100*$D$5 -> 80.157198 | Y36: =0.5*(Z35+Z37)*EXP(-bdt!Y36*0.5)+100*$D$5 -> 95.799976
H37: =0.5*(I36+I38)*EXP(-bdt!H37*0.5)+100*$D$5 -> 22.474234 | J37: =0.5*(K36+K38)*EXP(-bdt!J37*0.5)+100*$D$5 -> 22.034201 | L37: =0.5*(M36+M38)*EXP(-bdt!L37*0.5)+100*$D$5 -> 21.931066 | N37: =0.5*(O36+O38)*EXP(-bdt!N37*0.5)+100*$D$5 -> 30.996934 | P37: =0.5*(Q36+Q38)*EXP(-bdt!P37*0.5)+100*$D$5 -> 42.605305 | R37: =0.5*(S36+S38)*EXP(-bdt!R37*0.5)+100*$D$5 -> 51.852888 | T37: =0.5*(U36+U38)*EXP(-bdt!T37*0.5)+100*$D$5 -> 61.703469 | V37: =0.5*(W36+W38)*EXP(-bdt!V37*0.5)+100*$D$5 -> 79.388348 | X37: =0.5*(Y36+Y38)*EXP(-bdt!X37*0.5)+100*$D$5 -> 91.307437 | Z37: =100*(1+$D$5) -> 102
G38: =0.5*(H37+H39)*EXP(-bdt!G38*0.5)+100*$D$5 -> 33.60131 | I38: =0.5*(J37+J39)*EXP(-bdt!I38*0.5)+100*$D$5 -> 33.285734 | K38: =0.5*(L37+L39)*EXP(-bdt!K38*0.5)+100*$D$5 -> 34.033472 | M38: =0.5*(N37+N39)*EXP(-bdt!M38*0.5)+100*$D$5 -> 38.908085 | O38: =0.5*(P37+P39)*EXP(-bdt!O38*0.5)+100*$D$5 -> 48.287368 | Q38: =0.5*(R37+R39)*EXP(-bdt!Q38*0.5)+100*$D$5 -> 55.734057 | S38: =0.5*(T37+T39)*EXP(-bdt!S38*0.5)+100*$D$5 -> 65.558599 | U38: =0.5*(V37+V39)*EXP(-bdt!U38*0.5)+100*$D$5 -> 77.839773 | W38: =0.5*(X37+X39)*EXP(-bdt!W38*0.5)+100*$D$5 -> 90.443119 | Y38: =0.5*(Z37+Z39)*EXP(-bdt!Y38*0.5)+100*$D$5 -> 99.058047
F39: =0.5*(G38+G40)*EXP(-bdt!F39*0.5)+100*$D$5 -> 45.839999 | H39: =0.5*(I38+I40)*EXP(-bdt!H39*0.5)+100*$D$5 -> 45.179646 | J39: =0.5*(K38+K40)*EXP(-bdt!J39*0.5)+100*$D$5 -> 46.136116 | L39: =0.5*(M38+M40)*EXP(-bdt!L39*0.5)+100*$D$5 -> 48.427967 | N39: =0.5*(O38+O40)*EXP(-bdt!N39*0.5)+100*$D$5 -> 57.076772 | P39: =0.5*(Q38+Q40)*EXP(-bdt!P39*0.5)+100*$D$5 -> 64.88483 | R39: =0.5*(S38+S40)*EXP(-bdt!R39*0.5)+100*$D$5 -> 72.424178 | T39: =0.5*(U38+U40)*EXP(-bdt!T39*0.5)+100*$D$5 -> 79.501885 | V39: =0.5*(W38+W40)*EXP(-bdt!V39*0.5)+100*$D$5 -> 90.774212 | X39: =0.5*(Y38+Y40)*EXP(-bdt!X39*0.5)+100*$D$5 -> 97.020373 | Z39: =100*(1+$D$5) -> 102
E40: =0.5*(F39+F41)*EXP(-bdt!E40*0.5)+100*$D$5 -> 59.299134 | G40: =0.5*(H39+H41)*EXP(-bdt!G40*0.5)+100*$D$5 -> 58.705061 | I40: =0.5*(J39+J41)*EXP(-bdt!I40*0.5)+100*$D$5 -> 59.516405 | K40: =0.5*(L39+L41)*EXP(-bdt!K40*0.5)+100*$D$5 -> 61.556263 | M40: =0.5*(N39+N41)*EXP(-bdt!M40*0.5)+100*$D$5 -> 66.273291 | O40: =0.5*(P39+P41)*EXP(-bdt!O40*0.5)+100*$D$5 -> 72.251502 | Q40: =0.5*(R39+R41)*EXP(-bdt!Q40*0.5)+100*$D$5 -> 76.511078 | S40: =0.5*(T39+T41)*EXP(-bdt!S40*0.5)+100*$D$5 -> 82.964034 | U40: =0.5*(V39+V41)*EXP(-bdt!U40*0.5)+100*$D$5 -> 90.539242 | W40: =0.5*(X39+X41)*EXP(-bdt!W40*0.5)+100*$D$5 -> 97.19772 | Y40: =0.5*(Z39+Z41)*EXP(-bdt!Y40*0.5)+100*$D$5 -> 101.04189
D41: =0.5*(E40+E42)*EXP(-bdt!D41*0.5)+100*$D$5 -> 72.471257 | F41: =0.5*(G40+G42)*EXP(-bdt!F41*0.5)+100*$D$5 -> 71.868307 | H41: =0.5*(I40+I42)*EXP(-bdt!H41*0.5)+100*$D$5 -> 72.100839 | J41: =0.5*(K40+K42)*EXP(-bdt!J41*0.5)+100*$D$5 -> 73.516011 | L41: =0.5*(M40+M42)*EXP(-bdt!L41*0.5)+100*$D$5 -> 75.922901 | N41: =0.5*(O40+O42)*EXP(-bdt!N41*0.5)+100*$D$5 -> 80.84986 | P41: =0.5*(Q40+Q42)*EXP(-bdt!P41*0.5)+100*$D$5 -> 84.243321 | R41: =0.5*(S40+S42)*EXP(-bdt!R41*0.5)+100*$D$5 -> 88.686699 | T41: =0.5*(U40+U42)*EXP(-bdt!T41*0.5)+100*$D$5 -> 92.387167 | V41: =0.5*(W40+W42)*EXP(-bdt!V41*0.5)+100*$D$5 -> 98.254834 | X41: =0.5*(Y40+Y42)*EXP(-bdt!X41*0.5)+100*$D$5 -> 100.57964 | Z41: =100*(1+$D$5) -> 102
C42: =0.5*(D41+D43)*EXP(-bdt!C42*0.5)+100*$D$5 -> 85.309526 | E42: =0.5*(F41+F43)*EXP(-bdt!E42*0.5)+100*$D$5 -> 84.796373 | G42: =0.5*(H41+H43)*EXP(-bdt!G42*0.5)+100*$D$5 -> 84.619629 | I42: =0.5*(J41+J43)*EXP(-bdt!I42*0.5)+100*$D$5 -> 85.397211 | K42: =0.5*(L41+L43)*EXP(-bdt!K42*0.5)+100*$D$5 -> 86.805806 | M42: =0.5*(N41+N43)*EXP(-bdt!M42*0.5)+100*$D$5 -> 89.10735 | O42: =0.5*(P41+P43)*EXP(-bdt!O42*0.5)+100*$D$5 -> 91.217836 | Q42: =0.5*(R41+R43)*EXP(-bdt!Q42*0.5)+100*$D$5 -> 92.468207 | S42: =0.5*(T41+T43)*EXP(-bdt!S42*0.5)+100*$D$5 -> 95.41724 | U42: =0.5*(V41+V43)*EXP(-bdt!U42*0.5)+100*$D$5 -> 98.936176 | W42: =0.5*(X41+X43)*EXP(-bdt!W42*0.5)+100*$D$5 -> 101.45286 | Y42: =0.5*(Z41+Z43)*EXP(-bdt!Y42*0.5)+100*$D$5 -> 102.23656
B43: =0.5*(C42+C44)*EXP(-bdt!B43*0.5)+100*$D$5 -> 97.347548 | D43: =0.5*(E42+E44)*EXP(-bdt!D43*0.5)+100*$D$5 -> 96.424062 | F43: =0.5*(G42+G44)*EXP(-bdt!F43*0.5)+100*$D$5 -> 95.925232 | H43: =0.5*(I42+I44)*EXP(-bdt!H43*0.5)+100*$D$5 -> 95.895255 | J43: =0.5*(K42+K44)*EXP(-bdt!J43*0.5)+100*$D$5 -> 96.322744 | L43: =0.5*(M42+M44)*EXP(-bdt!L43*0.5)+100*$D$5 -> 97.075681 | N43: =0.5*(O42+O44)*EXP(-bdt!N43*0.5)+100*$D$5 -> 98.327784 | P43: =0.5*(Q42+Q44)*EXP(-bdt!P43*0.5)+100*$D$5 -> 98.482873 | R43: =0.5*(S42+S44)*EXP(-bdt!R43*0.5)+100*$D$5 -> 99.985243 | T43: =0.5*(U42+U44)*EXP(-bdt!T43*0.5)+100*$D$5 -> 100.89077 | V43: =0.5*(W42+W44)*EXP(-bdt!V43*0.5)+100*$D$5 -> 102.94383 | X43: =0.5*(Y42+Y44)*EXP(-bdt!X43*0.5)+100*$D$5 -> 102.75245 | Z43: =100*(1+$D$5) -> 102
A44: =0.5*(B43+B45)*EXP(-bdt!A44*0.5) -> 106.59775 | C44: =0.5*(D43+D45)*EXP(-bdt!C44*0.5)+100*$D$5 -> 107.05617 | E44: =0.5*(F43+F45)*EXP(-bdt!E44*0.5)+100*$D$5 -> 106.30765 | G44: =0.5*(H43+H45)*EXP(-bdt!G44*0.5)+100*$D$5 -> 105.59388 | I44: =0.5*(J43+J45)*EXP(-bdt!I44*0.5)+100*$D$5 -> 105.26687 | K44: =0.5*(L43+L45)*EXP(-bdt!K44*0.5)+100*$D$5 -> 105.03731 | M44: =0.5*(N43+N45)*EXP(-bdt!M44*0.5)+100*$D$5 -> 104.85131 | O44: =0.5*(P43+P45)*EXP(-bdt!O44*0.5)+100*$D$5 -> 104.21851 | Q44: =0.5*(R43+R45)*EXP(-bdt!Q44*0.5)+100*$D$5 -> 103.30873 | S44: =0.5*(T43+T45)*EXP(-bdt!S44*0.5)+100*$D$5 -> 103.57143 | U44: =0.5*(V43+V45)*EXP(-bdt!U44*0.5)+100*$D$5 -> 104.19731 | W44: =0.5*(X43+X45)*EXP(-bdt!W44*0.5)+100*$D$5 -> 104.06773 | Y44: =0.5*(Z43+Z45)*EXP(-bdt!Y44*0.5)+100*$D$5 -> 102.9513
B45: =0.5*(C44+C46)*EXP(-bdt!B45*0.5)+100*$D$5 -> 116.55266 | D45: =0.5*(E44+E46)*EXP(-bdt!D45*0.5)+100*$D$5 -> 115.22411 | F45: =0.5*(G44+G46)*EXP(-bdt!F45*0.5)+100*$D$5 -> 114.05258 | H45: =0.5*(I44+I46)*EXP(-bdt!H45*0.5)+100*$D$5 -> 112.98974 | J45: =0.5*(K44+K46)*EXP(-bdt!J45*0.5)+100*$D$5 -> 111.93434 | L45: =0.5*(M44+M46)*EXP(-bdt!L45*0.5)+100*$D$5 -> 110.87935 | N45: =0.5*(O44+O46)*EXP(-bdt!N45*0.5)+100*$D$5 -> 109.6922 | P45: =0.5*(Q44+Q46)*EXP(-bdt!P45*0.5)+100*$D$5 -> 107.90066 | R45: =0.5*(S44+S46)*EXP(-bdt!R45*0.5)+100*$D$5 -> 107.23654 | T45: =0.5*(U44+U46)*EXP(-bdt!T45*0.5)+100*$D$5 -> 106.20206 | V45: =0.5*(W44+W46)*EXP(-bdt!V45*0.5)+100*$D$5 -> 105.80257 | X45: =0.5*(Y44+Y46)*EXP(-bdt!X45*0.5)+100*$D$5 -> 104.06292 | Z45: =100*(1+$D$5) -> 102
C46: =0.5*(D45+D47)*EXP(-bdt!C46*0.5)+100*$D$5 -> 123.12425 | E46: =0.5*(F45+F47)*EXP(-bdt!E46*0.5)+100*$D$5 -> 121.58846 | G46: =0.5*(H45+H47)*EXP(-bdt!G46*0.5)+100*$D$5 -> 119.89688 | I46: =0.5*(J45+J47)*EXP(-bdt!I46*0.5)+100*$D$5 -> 118.26669 | K46: =0.5*(L45+L47)*EXP(-bdt!K46*0.5)+100*$D$5 -> 116.53576 | M46: =0.5*(N45+N47)*EXP(-bdt!M46*0.5)+100*$D$5 -> 114.63593 | O46: =0.5*(P45+P47)*EXP(-bdt!O46*0.5)+100*$D$5 -> 112.40043 | Q46: =0.5*(R45+R47)*EXP(-bdt!Q46*0.5)+100*$D$5 -> 110.14319 | S46: =0.5*(T45+T47)*EXP(-bdt!S46*0.5)+100*$D$5 -> 108.63533 | U46: =0.5*(V45+V47)*EXP(-bdt!U46*0.5)+100*$D$5 -> 107.39133 | W46: =0.5*(X45+X47)*EXP(-bdt!W46*0.5)+100*$D$5 -> 105.65107 | Y46: =0.5*(Z45+Z47)*EXP(-bdt!Y46*0.5)+100*$D$5 -> 103.37725
D47: =0.5*(E46+E48)*EXP(-bdt!D47*0.5)+100*$D$5 -> 127.9732 | F47: =0.5*(G46+G48)*EXP(-bdt!F47*0.5)+100*$D$5 -> 125.89329 | H47: =0.5*(I46+I48)*EXP(-bdt!H47*0.5)+100*$D$5 -> 123.75445 | J47: =0.5*(K46+K48)*EXP(-bdt!J47*0.5)+100*$D$5 -> 121.48842 | L47: =0.5*(M46+M48)*EXP(-bdt!L47*0.5)+100*$D$5 -> 119.15008 | N47: =0.5*(O46+O48)*EXP(-bdt!N47*0.5)+100*$D$5 -> 116.58839 | P47: =0.5*(Q46+Q48)*EXP(-bdt!P47*0.5)+100*$D$5 -> 113.73627 | R47: =0.5*(S46+S48)*EXP(-bdt!R47*0.5)+100*$D$5 -> 111.67413 | T47: =0.5*(U46+U48)*EXP(-bdt!T47*0.5)+100*$D$5 -> 109.41411 | V47: =0.5*(W46+W48)*EXP(-bdt!V47*0.5)+100*$D$5 -> 107.51742 | X47: =0.5*(Y46+Y48)*EXP(-bdt!X47*0.5)+100*$D$5 -> 104.84765 | Z47: =100*(1+$D$5) -> 102
E48: =0.5*(F47+F49)*EXP(-bdt!E48*0.5)+100*$D$5 -> 131.22132 | G48: =0.5*(H47+H49)*EXP(-bdt!G48*0.5)+100*$D$5 -> 128.64392 | I48: =0.5*(J47+J49)*EXP(-bdt!I48*0.5)+100*$D$5 -> 126.02394 | K48: =0.5*(L47+L49)*EXP(-bdt!K48*0.5)+100*$D$5 -> 123.29037 | M48: =0.5*(N47+N49)*EXP(-bdt!M48*0.5)+100*$D$5 -> 120.40421 | O48: =0.5*(P47+P49)*EXP(-bdt!O48*0.5)+100*$D$5 -> 117.29933 | Q48: =0.5*(R47+R49)*EXP(-bdt!Q48*0.5)+100*$D$5 -> 114.2624 | S48: =0.5*(T47+T49)*EXP(-bdt!S48*0.5)+100*$D$5 -> 111.68085 | U48: =0.5*(V47+V49)*EXP(-bdt!U48*0.5)+100*$D$5 -> 109.29525 | W48: =0.5*(X47+X49)*EXP(-bdt!W48*0.5)+100*$D$5 -> 106.60143 | Y48: =0.5*(Z47+Z49)*EXP(-bdt!Y48*0.5)+100*$D$5 -> 103.63051
F49: =0.5*(G48+G50)*EXP(-bdt!F49*0.5)+100*$D$5 -> 132.9587 | H49: =0.5*(I48+I50)*EXP(-bdt!H49*0.5)+100*$D$5 -> 130.03626 | J49: =0.5*(K48+K50)*EXP(-bdt!J49*0.5)+100*$D$5 -> 126.99485 | L49: =0.5*(M48+M50)*EXP(-bdt!L49*0.5)+100*$D$5 -> 123.89617 | N49: =0.5*(O48+O50)*EXP(-bdt!N49*0.5)+100*$D$5 -> 120.64238 | P49: =0.5*(Q48+Q50)*EXP(-bdt!P49*0.5)+100*$D$5 -> 117.21024 | R49: =0.5*(S48+S50)*EXP(-bdt!R49*0.5)+100*$D$5 -> 114.30879 | T49: =0.5*(U48+U50)*EXP(-bdt!T49*0.5)+100*$D$5 -> 111.31459 | V49: =0.5*(W48+W50)*EXP(-bdt!V49*0.5)+100*$D$5 -> 108.53645 | X49: =0.5*(Y48+Y50)*EXP(-bdt!X49*0.5)+100*$D$5 -> 105.31556 | Z49: =100*(1+$D$5) -> 102
G50: =0.5*(H49+H51)*EXP(-bdt!G50*0.5)+100*$D$5 -> 133.66626 | I50: =0.5*(J49+J51)*EXP(-bdt!I50*0.5)+100*$D$5 -> 130.42592 | K50: =0.5*(L49+L51)*EXP(-bdt!K50*0.5)+100*$D$5 -> 127.10708 | M50: =0.5*(N49+N51)*EXP(-bdt!M50*0.5)+100*$D$5 -> 123.69491 | O50: =0.5*(P49+P51)*EXP(-bdt!O50*0.5)+100*$D$5 -> 120.20123 | Q50: =0.5*(R49+R51)*EXP(-bdt!Q50*0.5)+100*$D$5 -> 116.67396 | S50: =0.5*(T49+T51)*EXP(-bdt!S50*0.5)+100*$D$5 -> 113.46818 | U50: =0.5*(V49+V51)*EXP(-bdt!U50*0.5)+100*$D$5 -> 110.40609 | W50: =0.5*(X49+X51)*EXP(-bdt!W50*0.5)+100*$D$5 -> 107.16888 | Y50: =0.5*(Z49+Z51)*EXP(-bdt!Y50*0.5)+100*$D$5 -> 103.78088
H51: =0.5*(I50+I52)*EXP(-bdt!H51*0.5)+100*$D$5 -> 133.55391 | J51: =0.5*(K50+K52)*EXP(-bdt!J51*0.5)+100*$D$5 -> 130.06402 | L51: =0.5*(M50+M52)*EXP(-bdt!L51*0.5)+100*$D$5 -> 126.53847 | N51: =0.5*(O50+O52)*EXP(-bdt!N51*0.5)+100*$D$5 -> 122.92046 | P51: =0.5*(Q50+Q52)*EXP(-bdt!P51*0.5)+100*$D$5 -> 119.20188 | R51: =0.5*(S50+S52)*EXP(-bdt!R51*0.5)+100*$D$5 -> 115.83737 | T51: =0.5*(U50+U52)*EXP(-bdt!T51*0.5)+100*$D$5 -> 112.40977 | V51: =0.5*(W50+W52)*EXP(-bdt!V51*0.5)+100*$D$5 -> 109.11425 | X51: =0.5*(Y50+Y52)*EXP(-bdt!X51*0.5)+100*$D$5 -> 105.59385 | Z51: =100*(1+$D$5) -> 102
I52: =0.5*(J51+J53)*EXP(-bdt!I52*0.5)+100*$D$5 -> 132.85995 | K52: =0.5*(L51+L53)*EXP(-bdt!K52*0.5)+100*$D$5 -> 129.2128 | M52: =0.5*(N51+N53)*EXP(-bdt!M52*0.5)+100*$D$5 -> 125.50699 | O52: =0.5*(P51+P53)*EXP(-bdt!O52*0.5)+100*$D$5 -> 121.72739 | Q52: =0.5*(R51+R53)*EXP(-bdt!Q52*0.5)+100*$D$5 -> 118.01132 | S52: =0.5*(T51+T53)*EXP(-bdt!S52*0.5)+100*$D$5 -> 114.49553 | U52: =0.5*(V51+V53)*EXP(-bdt!U52*0.5)+100*$D$5 -> 111.02787 | W52: =0.5*(X51+X53)*EXP(-bdt!W52*0.5)+100*$D$5 -> 107.4576 | Y52: =0.5*(Z51+Z53)*EXP(-bdt!Y52*0.5)+100*$D$5 -> 103.8701
J53: =0.5*(K52+K54)*EXP(-bdt!J53*0.5)+100*$D$5 -> 131.75277 | L53: =0.5*(M52+M54)*EXP(-bdt!L53*0.5)+100*$D$5 -> 127.9901 | N53: =0.5*(O52+O54)*EXP(-bdt!N53*0.5)+100*$D$5 -> 124.16354 | P53: =0.5*(Q52+Q54)*EXP(-bdt!P53*0.5)+100*$D$5 -> 120.31031 | R53: =0.5*(S52+S54)*EXP(-bdt!R53*0.5)+100*$D$5 -> 116.61836 | T53: =0.5*(U52+U54)*EXP(-bdt!T53*0.5)+100*$D$5 -> 113.03263 | V53: =0.5*(W52+W54)*EXP(-bdt!V53*0.5)+100*$D$5 -> 109.42007 | X53: =0.5*(Y52+Y54)*EXP(-bdt!X53*0.5)+100*$D$5 -> 105.66083 | Z53: =100*(1+$D$5) -> 102
K54: =0.5*(L53+L55)*EXP(-bdt!K54*0.5)+100*$D$5 -> 130.38201 | M54: =0.5*(N53+N55)*EXP(-bdt!M54*0.5)+100*$D$5 -> 126.52362 | O54: =0.5*(P53+P55)*EXP(-bdt!O54*0.5)+100*$D$5 -> 122.63502 | Q54: =0.5*(R53+R55)*EXP(-bdt!Q54*0.5)+100*$D$5 -> 118.7618 | S54: =0.5*(T53+T55)*EXP(-bdt!S54*0.5)+100*$D$5 -> 114.89731 | U54: =0.5*(V53+V55)*EXP(-bdt!U54*0.5)+100*$D$5 -> 111.38813 | W54: =0.5*(X53+X55)*EXP(-bdt!W54*0.5)+100*$D$5 -> 107.60914 | Y54: =0.5*(Z53+Z55)*EXP(-bdt!Y54*0.5)+100*$D$5 -> 103.72614
L55: =0.5*(M54+M56)*EXP(-bdt!L55*0.5)+100*$D$5 -> 128.82165 | N55: =0.5*(O54+O56)*EXP(-bdt!N55*0.5)+100*$D$5 -> 124.91185 | P55: =0.5*(Q54+Q56)*EXP(-bdt!P55*0.5)+100*$D$5 -> 120.9828 | R55: =0.5*(S54+S56)*EXP(-bdt!R55*0.5)+100*$D$5 -> 117.13909 | T55: =0.5*(U54+U56)*EXP(-bdt!T55*0.5)+100*$D$5 -> 113.41271 | V55: =0.5*(W54+W56)*EXP(-bdt!V55*0.5)+100*$D$5 -> 109.62878 | X55: =0.5*(Y54+Y56)*EXP(-bdt!X55*0.5)+100*$D$5 -> 105.75884 | Z55: =100*(1+$D$5) -> 102
M56: =0.5*(N55+N57)*EXP(-bdt!M56*0.5)+100*$D$5 -> 127.13993 | O56: =0.5*(P55+P57)*EXP(-bdt!O56*0.5)+100*$D$5 -> 123.20286 | Q56: =0.5*(R55+R57)*EXP(-bdt!Q56*0.5)+100*$D$5 -> 119.2861 | S56: =0.5*(T55+T57)*EXP(-bdt!S56*0.5)+100*$D$5 -> 115.46502 | U56: =0.5*(V55+V57)*EXP(-bdt!U56*0.5)+100*$D$5 -> 111.63711 | W56: =0.5*(X55+X57)*EXP(-bdt!W56*0.5)+100*$D$5 -> 107.77734 | Y56: =0.5*(Z55+Z57)*EXP(-bdt!Y56*0.5)+100*$D$5 -> 103.95436
N57: =0.5*(O56+O58)*EXP(-bdt!N57*0.5)+100*$D$5 -> 125.37929 | P57: =0.5*(Q56+Q58)*EXP(-bdt!P57*0.5)+100*$D$5 -> 121.43216 | R57: =0.5*(S56+S58)*EXP(-bdt!R57*0.5)+100*$D$5 -> 117.55917 | T57: =0.5*(U56+U58)*EXP(-bdt!T57*0.5)+100*$D$5 -> 113.66409 | V57: =0.5*(W56+W58)*EXP(-bdt!V57*0.5)+100*$D$5 -> 109.80058 | X57: =0.5*(Y56+Y58)*EXP(-bdt!X57*0.5)+100*$D$5 -> 105.91535 | Z57: =100*(1+$D$5) -> 102
...

Sheet Negative Convexity
A1: Look at the bond's price as a function of the 6-month short rate in 8 years:
A3: Non-Callable Bond: | D3: Callable Bond:
A4: Short rate | B4: Bond Price
A5: 6.5246561 | B5: 2.1004468 | D5: 2.1004468
A6: =(A5^15*A21)^(1/16) -> 3.502005 | B6: 2.7616208 | D6: 2.7616208
A7: =(A5^14*A21^2)^(1/16) -> 1.8796452 | B7: 5.904855 | D7: 5.904855
A8: =(A5^13*A21^3)^(1/16) -> 1.0088696 | B8: 15.52321 | D8: 15.522948
A9: =(A5^12*A21^4)^(1/16) -> 0.54149462 | B9: 33.439474 | D9: 33.433639
A10: =(A5^11*A21^5)^(1/16) -> 0.29063859 | B10: 55.734057 | D10: 55.677921
A11: =(A5^10*A21^6)^(1/16) -> 0.15599562 | B11: 76.511078 | D11: 76.199826
A12: =(A5^9*A21^7)^(1/16) -> 0.083728158 | B12: 92.468207 | D12: 91.315448
A13: =(A5^8*A21^8)^(1/16) -> 0.044939751 | B13: 103.30873 | D13: 99.845906
A14: =(A5^7*A21^9)^(1/16) -> 0.024120694 | B14: 110.14319 | D14: 102
A15: =(A5^6*A21^10)^(1/16) -> 0.012946397 | B15: 114.2624 | D15: 102
A16: =(A5^5*A21^11)^(1/16) -> 0.0069487719 | B16: 116.67396 | D16: 102
A17: =(A5^4*A21^12)^(1/16) -> 0.0037296423 | B17: 118.01132 | D17: 102
A18: =(A5^3*A21^13)^(1/16) -> 0.0020018259 | B18: 118.7618 | D18: 102
A19: =(A5^2*A21^14)^(1/16) -> 0.0010744481 | B19: 119.2861 | D19: 102
A20: =(A5*A21^15)^(1/16) -> 0.00057669286 | B20: 119.62254 | D20: 102
A21: 0.00030953068 | B21: 119.79 | D21: 102
A43: 0.29063859 | B43: 55.677921
A44: 0.15599562 | B44: 76.199826
A45: 0.083728158 | B45: 91.315448
A46: 0.044939751 | B46: 99.845906
A47: 0.024120694 | B47: 102
A48: 0.012946397 | B48: 102
A49: 0.0069487719 | B49: 102

Sheet swap
A1: Coupon Rate: | C1: 0.021528112
A2: Cash flows of pay fixed receive floating 5-year swap
A3: Notional Principal: | C3: 10000000
J35: =((bdt!J35-$C$1)*$C$3*0.5)*EXP(-bdt!J35*0.5) -> 2513553.6
I36: =(0.5*(J35+J37)+(bdt!I36-$C$1)*$C$3*0.5)*EXP(-bdt!I36*0.5) -> 3068794.2
H37: =(0.5*(I36+I38)+(bdt!H37-$C$1)*$C$3*0.5)*EXP(-bdt!H37*0.5) -> 3246145.1 | J37: =((bdt!J37-$C$1)*$C$3*0.5)*EXP(-bdt!J37*0.5) -> 1367116.9
G38: =(0.5*(H37+H39)+(bdt!G38-$C$1)*$C$3*0.5)*EXP(-bdt!G38*0.5) -> 2819027.9 | I38: =(0.5*(J37+J39)+(bdt!I38-$C$1)*$C$3*0.5)*EXP(-bdt!I38*0.5) -> 1607128.2
F39: =(0.5*(G38+G40)+(bdt!F39-$C$1)*$C$3*0.5)*EXP(-bdt!F39*0.5) -> 2359181.2 | H39: =(0.5*(I38+I40)+(bdt!H39-$C$1)*$C$3*0.5)*EXP(-bdt!H39*0.5) -> 1643092 | J39: =((bdt!J39-$C$1)*$C$3*0.5)*EXP(-bdt!J39*0.5) -> 636032.87
E40: =(0.5*(F39+F41)+(bdt!E40-$C$1)*$C$3*0.5)*EXP(-bdt!E40*0.5) -> 1798576.3 | G40: =(0.5*(H39+H41)+(bdt!G40-$C$1)*$C$3*0.5)*EXP(-bdt!G40*0.5) -> 1335189.6 | I40: =(0.5*(J39+J41)+(bdt!I40-$C$1)*$C$3*0.5)*EXP(-bdt!I40*0.5) -> 700437.68
D41: =(0.5*(E40+E42)+(bdt!D41-$C$1)*$C$3*0.5)*EXP(-bdt!D41*0.5) -> 1305652.9 | F41: =(0.5*(G40+G42)+(bdt!F41-$C$1)*$C$3*0.5)*EXP(-bdt!F41*0.5) -> 1015336.3 | H41: =(0.5*(I40+I42)+(bdt!H41-$C$1)*$C$3*0.5)*EXP(-bdt!H41*0.5) -> 662546.01 | J41: =((bdt!J41-$C$1)*$C$3*0.5)*EXP(-bdt!J41*0.5) -> 248953.84
C42: =(0.5*(D41+D43)+(bdt!C42-$C$1)*$C$3*0.5)*EXP(-bdt!C42*0.5) -> 833511.43 | E42: =(0.5*(F41+F43)+(bdt!E42-$C$1)*$C$3*0.5)*EXP(-bdt!E42*0.5) -> 643943.18 | G42: =(0.5*(H41+H43)+(bdt!G42-$C$1)*$C$3*0.5)*EXP(-bdt!G42*0.5) -> 455840.77 | I42: =(0.5*(J41+J43)+(bdt!I42-$C$1)*$C$3*0.5)*EXP(-bdt!I42*0.5) -> 223352.28
B43: =(0.5*(C42+C44)+(bdt!B43-$C$1)*$C$3*0.5)*EXP(-bdt!B43*0.5) -> 404708.37 | D43: =(0.5*(E42+E44)+(bdt!D43-$C$1)*$C$3*0.5)*EXP(-bdt!D43*0.5) -> 328044.61 | F43: =(0.5*(G42+G44)+(bdt!F43-$C$1)*$C$3*0.5)*EXP(-bdt!F43*0.5) -> 240890.65 | H43: =(0.5*(I42+I44)+(bdt!H43-$C$1)*$C$3*0.5)*EXP(-bdt!H43*0.5) -> 148701.76 | J43: =((bdt!J43-$C$1)*$C$3*0.5)*EXP(-bdt!J43*0.5) -> 59436.156
A44: =(0.5*(B43+B45)+(bdt!A44-$C$1)*$C$3*0.5)*EXP(-bdt!A44*0.5) -> 2.9007946e-11 | C44: =(0.5*(D43+D45)+(bdt!C44-$C$1)*$C$3*0.5)*EXP(-bdt!C44*0.5) -> 23828.657 | E44: =(0.5*(F43+F45)+(bdt!E44-$C$1)*$C$3*0.5)*EXP(-bdt!E44*0.5) -> -2231.7066 | G44: =(0.5*(H43+H45)+(bdt!G44-$C$1)*$C$3*0.5)*EXP(-bdt!G44*0.5) -> -2736.223 | I44: =(0.5*(J43+J45)+(bdt!I44-$C$1)*$C$3*0.5)*EXP(-bdt!I44*0.5) -> -9838.9018
B45: =(0.5*(C44+C46)+(bdt!B45-$C$1)*$C$3*0.5)*EXP(-bdt!B45*0.5) -> -255427.25 | D45: =(0.5*(E44+E46)+(bdt!D45-$C$1)*$C$3*0.5)*EXP(-bdt!D45*0.5) -> -210416.81 | F45: =(0.5*(G44+G46)+(bdt!F45-$C$1)*$C$3*0.5)*EXP(-bdt!F45*0.5) -> -160300.38 | H45: =(0.5*(I44+I46)+(bdt!H45-$C$1)*$C$3*0.5)*EXP(-bdt!H45*0.5) -> -102106.79 | J45: =((bdt!J45-$C$1)*$C$3*0.5)*EXP(-bdt!J45*0.5) -> -30187.4
C46: =(0.5*(D45+D47)+(bdt!C46-$C$1)*$C$3*0.5)*EXP(-bdt!C46*0.5) -> -415431.66 | E46: =(0.5*(F45+F47)+(bdt!E46-$C$1)*$C$3*0.5)*EXP(-bdt!E46*0.5) -> -333483.79 | G46: =(0.5*(H45+H47)+(bdt!G46-$C$1)*$C$3*0.5)*EXP(-bdt!G46*0.5) -> -227841.94 | I46: =(0.5*(J45+J47)+(bdt!I46-$C$1)*$C$3*0.5)*EXP(-bdt!I46*0.5) -> -120055.45
D47: =(0.5*(E46+E48)+(bdt!D47-$C$1)*$C$3*0.5)*EXP(-bdt!D47*0.5) -> -486599.64 | F47: =(0.5*(G46+G48)+(bdt!F47-$C$1)*$C$3*0.5)*EXP(-bdt!F47*0.5) -> -357727.09 | H47: =(0.5*(I46+I48)+(bdt!H47-$C$1)*$C$3*0.5)*EXP(-bdt!H47*0.5) -> -220586.18 | J47: =((bdt!J47-$C$1)*$C$3*0.5)*EXP(-bdt!J47*0.5) -> -71909.94
E48: =(0.5*(F47+F49)+(bdt!E48-$C$1)*$C$3*0.5)*EXP(-bdt!E48*0.5) -> -496187.94 | G48: =(0.5*(H47+H49)+(bdt!G48-$C$1)*$C$3*0.5)*EXP(-bdt!G48*0.5) -> -335292.54 | I48: =(0.5*(J47+J49)+(bdt!I48-$C$1)*$C$3*0.5)*EXP(-bdt!I48*0.5) -> -171354.18
F49: =(0.5*(G48+G50)+(bdt!F49-$C$1)*$C$3*0.5)*EXP(-bdt!F49*0.5) -> -452592.91 | H49: =(0.5*(I48+I50)+(bdt!H49-$C$1)*$C$3*0.5)*EXP(-bdt!H49*0.5) -> -275718.24 | J49: =((bdt!J49-$C$1)*$C$3*0.5)*EXP(-bdt!J49*0.5) -> -91194.3
G50: =(0.5*(H49+H51)+(bdt!G50-$C$1)*$C$3*0.5)*EXP(-bdt!G50*0.5) -> -385940.19 | I50: =(0.5*(J49+J51)+(bdt!I50-$C$1)*$C$3*0.5)*EXP(-bdt!I50*0.5) -> -195062.72
H51: =(0.5*(I50+I52)+(bdt!H51-$C$1)*$C$3*0.5)*EXP(-bdt!H51*0.5) -> -301195.86 | J51: =((bdt!J51-$C$1)*$C$3*0.5)*EXP(-bdt!J51*0.5) -> -100078.4
I52: =(0.5*(J51+J53)+(bdt!I52-$C$1)*$C$3*0.5)*EXP(-bdt!I52*0.5) -> -205984.59
J53: =((bdt!J53-$C$1)*$C$3*0.5)*EXP(-bdt!J53*0.5) -> -104165.05
A57: We can obtain the swap rate by Solver: | E57: Make the valueof the swap zero, by changing the coupon rate in cell C1.

Sheet Swaption
A1: Bermudan Swaption
A3: Consider a swaption that allows us to enter into the swap in the preceding page at any node in the first 2.5 years of the swap's life.
A4: If we exercise the swaption, we jump into the swap tree (on the preceding worksheet).
F39: =MAX(swap!F39,0) -> 2359181.2
E40: =MAX(swap!E40,EXP(-bdt!E40*0.5)*0.5*(F39+F41)) -> 1798576.3
D41: =MAX(swap!D41,EXP(-bdt!D41*0.5)*0.5*(E40+E42)) -> 1305652.9 | F41: =MAX(swap!F41,0) -> 1015336.3
C42: =MAX(swap!C42,EXP(-bdt!C42*0.5)*0.5*(D41+D43)) -> 833511.43 | E42: =MAX(swap!E42,EXP(-bdt!E42*0.5)*0.5*(F41+F43)) -> 643943.18
B43: =MAX(swap!B43,EXP(-bdt!B43*0.5)*0.5*(C42+C44)) -> 520589.78 | D43: =MAX(swap!D43,EXP(-bdt!D43*0.5)*0.5*(E42+E44)) -> 377296.45 | F43: =MAX(swap!F43,0) -> 240890.65
A44: =MAX(swap!A44,EXP(-bdt!A44*0.5)*0.5*(B43+B45)) -> 320547.47 | C44: =MAX(swap!C44,EXP(-bdt!C44*0.5)*0.5*(D43+D45)) -> 216789.47 | E44: =MAX(swap!E44,EXP(-bdt!E44*0.5)*0.5*(F43+F45)) -> 119663.78
B45: =MAX(swap!B45,EXP(-bdt!B45*0.5)*0.5*(C44+C46)) -> 122624.26 | D45: =MAX(swap!D45,EXP(-bdt!D45*0.5)*0.5*(E44+E46)) -> 59451.759 | F45: =MAX(swap!F45,0) -> 0
C46: =MAX(swap!C46,EXP(-bdt!C46*0.5)*0.5*(D45+D47)) -> 29609.908 | E46: =MAX((MAX(swap!E46,0)+EXP(-bdt!E46*0.5)*0.5*(F45+F47)),0) -> 0
D47: =MAX((MAX(swap!D47,0)+EXP(-bdt!D47*0.5)*0.5*(E46+E48)),0) -> 0 | F47: =MAX(swap!F47,0) -> 0
E48: =MAX((MAX(swap!E48,0)+EXP(-bdt!E48*0.5)*0.5*(F47+F49)),0) -> 0
F49: =MAX(swap!F49,0) -> 0
A52: I use conditional formatting to highlight the nodes in which we exercise the Bermudan swaption.
B53: --Note that exercising a swaption means that you now own the swap (on the preceding worksheet).

Sheet OASrts
A1: OAS: (Tickman) | C1: -0.00237
Z19: =bdt!Z19+$C$1 -> 8.6632614
Y20: =bdt!Y20+$C$1 -> 11.020749
X21: =bdt!X21+$C$1 -> 11.445465 | Z21: =bdt!Z21+$C$1 -> 5.2800804
W22: =bdt!W22+$C$1 -> 8.2414484 | Y22: =bdt!Y22+$C$1 -> 6.5297778
V23: =bdt!V23+$C$1 -> 10.207966 | X23: =bdt!X23+$C$1 -> 6.7814778 | Z23: =bdt!Z23+$C$1 -> 3.2177395
U24: =bdt!U24+$C$1 -> 12.058722 | W24: =bdt!W24+$C$1 -> 4.8828026 | Y24: =bdt!Y24+$C$1 -> 3.8684905
T25: =bdt!T25+$C$1 -> 8.6794677 | V25: =bdt!V25+$C$1 -> 5.796802 | X25: =bdt!X25+$C$1 -> 4.0176556 | Z25: =bdt!Z25+$C$1 -> 1.9605647
S26: =bdt!S26+$C$1 -> 6.2594479 | U26: =bdt!U26+$C$1 -> 6.8479769 | W26: =bdt!W26+$C$1 -> 2.8925156 | Y26: =bdt!Y26+$C$1 -> 2.2914484
R27: =bdt!R27+$C$1 -> 4.4356797 | T27: =bdt!T27+$C$1 -> 4.9286586 | V27: =bdt!V27+$C$1 -> 3.2913899 | X27: =bdt!X27+$C$1 -> 2.3798483 | Z27: =bdt!Z27+$C$1 -> 1.1942082
Q28: =bdt!Q28+$C$1 -> 6.5222861 | S28: =bdt!S28+$C$1 -> 3.5541598 | U28: =bdt!U28+$C$1 -> 3.8884261 | W28: =bdt!W28+$C$1 -> 1.7130991 | Y28: =bdt!Y28+$C$1 -> 1.3569151
P29: =bdt!P29+$C$1 -> 2.2517935 | R29: =bdt!R29+$C$1 -> 2.3796799 | T29: =bdt!T29+$C$1 -> 2.7983093 | V29: =bdt!V29+$C$1 -> 1.8683892 | X29: =bdt!X29+$C$1 -> 1.4093035 | Z29: =bdt!Z29+$C$1 -> 0.72704768
O30: =bdt!O30+$C$1 -> 11.806666 | Q30: =bdt!Q30+$C$1 -> 3.499635 | S30: =bdt!S30+$C$1 -> 2.0176351 | U30: =bdt!U30+$C$1 -> 2.2074881 | W30: =bdt!W30+$C$1 -> 1.0141932 | Y30: =bdt!Y30+$C$1 -> 0.80312353
N31: =bdt!N31+$C$1 -> 7.1199544 | P31: =bdt!P31+$C$1 -> 1.2075147 | R31: =bdt!R31+$C$1 -> 1.276156 | T31: =bdt!T31+$C$1 -> 1.5883335 | V31: =bdt!V31+$C$1 -> 1.0601665 | X31: =bdt!X31+$C$1 -> 0.83417055 | Z31: =bdt!Z31+$C$1 -> 0.44227304
M32: =bdt!M32+$C$1 -> 5.5652883 | O32: =bdt!O32+$C$1 -> 4.7073326 | Q32: =bdt!Q32+$C$1 -> 1.8772752 | S32: =bdt!S32+$C$1 -> 1.1449339 | U32: =bdt!U32+$C$1 -> 1.2527646 | W32: =bdt!W32+$C$1 -> 0.60003129 | Y32: =bdt!Y32+$C$1 -> 0.47495433
L33: =bdt!L33+$C$1 -> 3.9271528 | N33: =bdt!N33+$C$1 -> 2.8381734 | P33: =bdt!P33+$C$1 -> 0.64701544 | R33: =bdt!R33+$C$1 -> 0.68385772 | T33: =bdt!T33+$C$1 -> 0.90110283 | V33: =bdt!V33+$C$1 -> 0.6011196 | X33: =bdt!X33+$C$1 -> 0.49335375 | Z33: =bdt!Z33+$C$1 -> 0.26867832
K34: =bdt!K34+$C$1 -> 0.88538452 | M34: =bdt!M34+$C$1 -> 2.2181372 | O34: =bdt!O34+$C$1 -> 1.8759627 | Q34: =bdt!Q34+$C$1 -> 1.0064996 | S34: =bdt!S34+$C$1 -> 0.64926515 | U34: =bdt!U34+$C$1 -> 0.71050966 | W34: =bdt!W34+$C$1 -> 0.35460466 | Y34: =bdt!Y34+$C$1 -> 0.2804858
J35: =bdt!J35+$C$1 -> 0.75231232 | L35: =bdt!L35+$C$1 -> 1.5648102 | N35: =bdt!N35+$C$1 -> 1.1305027 | P35: =bdt!P35+$C$1 -> 0.34617681 | R35: =bdt!R35+$C$1 -> 0.36595141 | T35: =bdt!T35+$C$1 -> 0.51077601 | V35: =bdt!V35+$C$1 -> 0.34039443 | X35: =bdt!X35+$C$1 -> 0.29138986 | Z35: =bdt!Z35+$C$1 -> 0.16285735
I36: =bdt!I36+$C$1 -> 0.3707182 | K36: =bdt!K36+$C$1 -> 0.4054711 | M36: =bdt!M36+$C$1 -> 0.88321816 | O36: =bdt!O36+$C$1 -> 0.74675025 | Q36: =bdt!Q36+$C$1 -> 0.53912462 | S36: =bdt!S36+$C$1 -> 0.36773975 | U36: =bdt!U36+$C$1 -> 0.40252474 | W36: =bdt!W36+$C$1 -> 0.20916824 | Y36: =bdt!Y36+$C$1 -> 0.16524643
H37: =bdt!H37+$C$1 -> 0.31087384 | J37: =bdt!J37+$C$1 -> 0.34433679 | L37: =bdt!L37+$C$1 -> 0.62265597 | N37: =bdt!N37+$C$1 -> 0.44944513 | P37: =bdt!P37+$C$1 -> 0.18470669 | R37: =bdt!R37+$C$1 -> 0.19532044 | T37: =bdt!T37+$C$1 -> 0.28908185 | V37: =bdt!V37+$C$1 -> 0.19231016 | X37: =bdt!X37+$C$1 -> 0.17170852 | Z37: =bdt!Z37+$C$1 -> 0.09835033
G38: =bdt!G38+$C$1 -> 0.13374792 | I38: =bdt!I38+$C$1 -> 0.16902972 | K38: =bdt!K38+$C$1 -> 0.18499527 | M38: =bdt!M38+$C$1 -> 0.35082246 | O38: =bdt!O38+$C$1 -> 0.29639558 | Q38: =bdt!Q38+$C$1 -> 0.28826859 | S38: =bdt!S38+$C$1 -> 0.20784153 | U38: =bdt!U38+$C$1 -> 0.22759834 | W38: =bdt!W38+$C$1 -> 0.12298463 | Y38: =bdt!Y38+$C$1 -> 0.096957182
F39: =bdt!F39+$C$1 -> 0.10046871 | H39: =bdt!H39+$C$1 -> 0.14153653 | J39: =bdt!J39+$C$1 -> 0.15690973 | L39: =bdt!L39+$C$1 -> 0.24690412 | N39: =bdt!N39+$C$1 -> 0.17782405 | P39: =bdt!P39+$C$1 -> 0.098040294 | R39: =bdt!R39+$C$1 -> 0.10373708 | T39: =bdt!T39+$C$1 -> 0.16316608 | V39: =bdt!V39+$C$1 -> 0.10820263 | X39: =bdt!X39+$C$1 -> 0.10078681 | Z39: =bdt!Z39+$C$1 -> 0.059027736
E40: =bdt!E40+$C$1 -> 0.051183805 | G40: =bdt!G40+$C$1 -> 0.064745472 | I40: =bdt!I40+$C$1 -> 0.076372406 | K40: =bdt!K40+$C$1 -> 0.083707013 | M40: =bdt!M40+$C$1 -> 0.13849109 | O40: =bdt!O40+$C$1 -> 0.11678426 | Q40: =bdt!Q40+$C$1 -> 0.15362562 | S40: =bdt!S40+$C$1 -> 0.11702401 | U40: =bdt!U40+$C$1 -> 0.12824527 | W40: =bdt!W40+$C$1 -> 0.071913418 | Y40: =bdt!Y40+$C$1 -> 0.056489914
D41: =bdt!D41+$C$1 -> 0.041878438 | F41: =bdt!F41+$C$1 -> 0.048336575 | H41: =bdt!H41+$C$1 -> 0.063741724 | J41: =bdt!J41+$C$1 -> 0.070804318 | L41: =bdt!L41+$C$1 -> 0.097046006 | N41: =bdt!N41+$C$1 -> 0.069495445 | P41: =bdt!P41+$C$1 -> 0.051523551 | R41: =bdt!R41+$C$1 -> 0.054581223 | T41: =bdt!T41+$C$1 -> 0.091649628 | V41: =bdt!V41+$C$1 -> 0.060432017 | X41: =bdt!X41+$C$1 -> 0.05875947 | Z41: =bdt!Z41+$C$1 -> 0.03505722
C42: =bdt!C42+$C$1 -> 0.024768048 | E42: =bdt!E42+$C$1 -> 0.024035707 | G42: =bdt!G42+$C$1 -> 0.030722531 | I42: =bdt!I42+$C$1 -> 0.033804893 | K42: =bdt!K42+$C$1 -> 0.037174427 | M42: =bdt!M42+$C$1 -> 0.053808566 | O42: =bdt!O42+$C$1 -> 0.045151333 | Q42: =bdt!Q42+$C$1 -> 0.081358158 | S42: =bdt!S42+$C$1 -> 0.065442315 | U42: =bdt!U42+$C$1 -> 0.071815646 | W42: =bdt!W42+$C$1 -> 0.041649325 | Y42: =bdt!Y42+$C$1 -> 0.032509571
B43: =bdt!B43+$C$1 -> 0.015074873 | D43: =bdt!D43+$C$1 -> 0.021379624 | F43: =bdt!F43+$C$1 -> 0.022631838 | H43: =bdt!H43+$C$1 -> 0.028002214 | J43: =bdt!J43+$C$1 -> 0.031246837 | L43: =bdt!L43+$C$1 -> 0.037279292 | N43: =bdt!N43+$C$1 -> 0.026291558 | P43: =bdt!P43+$C$1 -> 0.026556465 | R43: =bdt!R43+$C$1 -> 0.028197629 | T43: =bdt!T43+$C$1 -> 0.051030385 | V43: =bdt!V43+$C$1 -> 0.033299707 | X43: =bdt!X43+$C$1 -> 0.03385458 | Z43: =bdt!Z43+$C$1 -> 0.020445121
A44: =bdt!A44+$C$1 -> 0.00423 | C44: =bdt!C44+$C$1 -> 0.012195898 | E44: =bdt!E44+$C$1 -> 0.010649828 | G44: =bdt!G44+$C$1 -> 0.013946887 | I44: =bdt!I44+$C$1 -> 0.014249036 | K44: =bdt!K44+$C$1 -> 0.015797007 | M44: =bdt!M44+$C$1 -> 0.020035274 | O44: =bdt!O44+$C$1 -> 0.01658255 | Q44: =bdt!Q44+$C$1 -> 0.042569751 | S44: =bdt!S44+$C$1 -> 0.036145416 | U44: =bdt!U44+$C$1 -> 0.039765272 | W44: =bdt!W44+$C$1 -> 0.023715242 | Y44: =bdt!Y44+$C$1 -> 0.018299152
B45: =bdt!B45+$C$1 -> 0.0069932386 | D45: =bdt!D45+$C$1 -> 0.010377221 | F45: =bdt!F45+$C$1 -> 0.0099576301 | H45: =bdt!H45+$C$1 -> 0.011583219 | J45: =bdt!J45+$C$1 -> 0.01307383 | L45: =bdt!L45+$C$1 -> 0.013443011 | N45: =bdt!N45+$C$1 -> 0.0090608748 | P45: =bdt!P45+$C$1 -> 0.013155798 | R45: =bdt!R45+$C$1 -> 0.01403667 | T45: =bdt!T45+$C$1 -> 0.027959849 | V45: =bdt!V45+$C$1 -> 0.017889349 | X45: =bdt!X45+$C$1 -> 0.019096245 | Z45: =bdt!Z45+$C$1 -> 0.011537786
