Workbook

Sheet Vasicek
A1: Refer to the closed form expression for a yield to maturity under the Vasicek model, we can rewrite it:
A2: in the form: Br - A
A3: Furthermore, we know that
A7: So we can write:
A12: A bit of algebra shows that:
A18: and
A25: And, spot rates:
A29: Note that A and B are functions of T.
A31: This type of specification also holds in the CIR model. Of course A and B are different.
B32: Furthermore in a two-factor CIR model the form holds as each of the separate factors has its own A and B (again, dependent on the zero-coupon security's term.)
A33: This class of models is called Affine Term Structure Models.
A36: Case Study 16.8 (Veronesi, p. 579).
B38: Please note that Veronesi has not separately identified the risk premium lambda in the afine term structure models at this point in the book.
C39: Remember if all we are interested in is pricing and hedging, then we do not need to know separately lambda, kappa, and theta.
C40: Instead, we know kappa and theta in the equivalent risk-neutral world.
A43: Parameters:
B44: sigma: | C44: 0.0317
B45: theta-hat: | C45: 0.1899 | D45: (Veronesi uses the notation r-bar star -- highlighting the idea that this is the long-run mean of the short rate and in the equivalent risk-neutral world.)
B46: kappa-hat: | C46: 0.0583 | D46: (Veronesi uses the notation gamma-star.)
A48: So for the 1.5-year note, the price implied by the model is:
A49: Cash-flow Time | E49: Coupon: | F49: =6.5/2 -> 3.25 | G49: r: | H49: 0.0104
A50: (Years) | B50: A | C50: B | E50: Cash Flow | F50: PV of Cash Flow
A51: 0.5 | B51: =(C51-A51)*($C$45-($C$44^2/(2*$C$46^2)))-($C$44^2*C51^2)/(4*$C$46) -> -0.0013500631 | C51: =(1-EXP(-$C$46*A51))/$C$46 -> 0.4927828 | E51: =F49 -> 3.25 | F51: =E51*EXP(B51-C51*$H$49) -> 3.2290242 | H51: Discussion: | I51: The model price is the invoice price.
A52: 1 | B52: =(C52-A52)*($C$45-($C$44^2/(2*$C$46^2)))-($C$44^2*C52^2)/(4*$C$46) -> -0.0052692062 | C52: =(1-EXP(-$C$46*A52))/$C$46 -> 0.97140832 | E52: =F49 -> 3.25 | F52: =E52*EXP(B52-C52*$H$49) -> 3.2004235 | I52: By contrast, market prices are quoted net of accrued interest.
A53: 1.5 | B53: =(C53-A53)*($C$45-($C$44^2/(2*$C$46^2)))-($C$44^2*C53^2)/(4*$C$46) -> -0.011570158 | C53: =(1-EXP(-$C$46*A53))/$C$46 -> 1.4362833 | E53: =100+F49 -> 103.25 | F53: =E53*EXP(B53-C53*$H$49) -> 100.54906
F55: =SUM(F51:F53) -> 106.9785 | G55: Bond Value under the Vasicek model.
B56: Vasicek Bond value as per Veronesi: | E56: 106.9791 | F56: =(F55-E56)^2*1000000 -> 0.35553988
B58: --I can't see where Veronesi tells us what the current state variable is. So I back it out using Solver
B60: Market price of this note: | D60: 107.5469 | E60: (mid-point of the bid-ask spread.)
A62: Since the market price of the security exceeds the model price, if we place our faith in the model, we can sell the note and replicate it -- using model implied
B63: hedge ratios -- to make arbitrage profits.
A65: Use the 7.5 year note to replicate:
A66: Cash-flow Time | E66: Coupon: | F66: =5/2 -> 2.5 | H66: Vasicek
A67: (Years) | B67: A | C67: B | E67: Cash Flow | F67: PV of Cash Flow | H67: Discount
A68: 0.5 | B68: =(C68-A68)*($C$45-($C$44^2/(2*$C$46^2)))-($C$44^2*$C68^2)/(4*$C$46) -> -0.0013500631 | C68: =(1-EXP(-$C$46*A68))/$C$46 -> 0.4927828 | E68: =$F$66 -> 2.5 | F68: =E68*EXP(B68-C68*$H$49) -> 2.4838648 | H68: =EXP(B68-C68*$H$49) -> 0.99354591
A69: 1 | B69: =(C69-A69)*($C$45-($C$44^2/(2*$C$46^2)))-($C$44^2*$C69^2)/(4*$C$46) -> -0.0052692062 | C69: =(1-EXP(-$C$46*A69))/$C$46 -> 0.97140832 | E69: =$F$66 -> 2.5 | F69: =E69*EXP(B69-C69*$H$49) -> 2.4618642 | H69: =EXP(B69-C69*$H$49) -> 0.98474569
A70: 1.5 | B70: =(C70-A70)*($C$45-($C$44^2/(2*$C$46^2)))-($C$44^2*$C70^2)/(4*$C$46) -> -0.011570158 | C70: =(1-EXP(-$C$46*A70))/$C$46 -> 1.4362833 | E70: =$F$66 -> 2.5 | F70: =E70*EXP(B70-C70*$H$49) -> 2.4346018 | H70: =EXP(B70-C70*$H$49) -> 0.97384074
A71: 2 | B71: =(C71-A71)*($C$45-($C$44^2/(2*$C$46^2)))-($C$44^2*$C71^2)/(4*$C$46) -> -0.020077452 | C71: =(1-EXP(-$C$46*A71))/$C$46 -> 1.8878028 | E71: =$F$66 -> 2.5 | F71: =E71*EXP(B71-C71*$H$49) -> 2.4026688 | H71: =EXP(B71-C71*$H$49) -> 0.96106753
A72: 2.5 | B72: =(C72-A72)*($C$45-($C$44^2/(2*$C$46^2)))-($C$44^2*$C72^2)/(4*$C$46) -> -0.030626725 | C72: =(1-EXP(-$C$46*A72))/$C$46 -> 2.3263504 | E72: =$F$66 -> 2.5 | F72: =E72*EXP(B72-C72*$H$49) -> 2.366637 | H72: =EXP(B72-C72*$H$49) -> 0.9466548
A73: 3 | B73: =(C73-A73)*($C$45-($C$44^2/(2*$C$46^2)))-($C$44^2*$C73^2)/(4*$C$46) -> -0.043064056 | C73: =(1-EXP(-$C$46*A73))/$C$46 -> 2.752299 | E73: =$F$66 -> 2.5 | F73: =E73*EXP(B73-C73*$H$49) -> 2.3270532 | H73: =EXP(B73-C73*$H$49) -> 0.9308213
...

Sheet 2F CIR
A2: Case Study 16.8 (Veronesi, p. 579).
A4: Parameters: | C4: Factor 1 | D4: Factor 2
B5: sigma: | C5: 0.044302854 | D5: 0.068994231
B6: theta | C6: 0.023765366 | D6: 0.050321208
B7: kappa | C7: 0.74646773 | D7: 0.063290281
B8: lambda | C8: -0.13679963 | D8: -0.018257452
B10: gamma | C10: =SQRT((C7+C8)^2+2*C5^2) -> 0.61287901 | D10: =SQRT((D7+D8)^2+2*D5^2) -> 0.10746331
G13: factor 1 | H13: 0.0025871718
G14: factor 2 | H14: 0.0042960915 | K14: =H13+H14 -> 0.0068832632
G15: Inst Short Rate: | I15: =H13+H14 -> 0.0068832632
K16: ytm: | L16: 0.014082932
A17: Cash-flow Time | H17: Coupon: | I17: =6.5/2 -> 3.25
A18: (Years) | B18: A1 | C18: B1 | E18: A2 | F18: B2 | H18: Cash Flow | I18: PV of Cash Flow
A19: 0.5 | B19: =((2*$C$10*EXP(0.5*($C$7+$C$8+$C$10)*A19))/(($C$7+$C$8+$C$10)*(EXP(A19*$C$10)-1)+2*$C$10))^(2*$C$7*$C$6/$C$5^2) -> 0.99799373 | C19: =(2*(EXP(A19*$C$10)-1))/((($C$7+$C$8+$C$10)*(EXP(A19*$C$10)-1))+2*$C$10) -> 0.43094895 | E19: =((2*$D$10*EXP(0.5*($D$7+$D$8+$D$10)*A19))/(($D$7+$D$8+$D$10)*(EXP(A19*$D$10)-1)+2*$D$10))^(2*$D$7*$D$6/$D$5^2) -> 0.99960498 | F19: =(2*(EXP(A19*$D$10)-1))/(($D$7+$D$8+$D$10)*(EXP(A19*$D$10)-1)+2*$D$10) -> 0.49431597 | H19: =I17 -> 3.25 | I19: =H19*B19*EXP(-C19*$H$13)*E19*EXP(-F19*$H$14) -> 3.2317153 | J19: =H19/(1+$L$16/2)^(2*A19) -> 3.2272753 | K19: Discussion: | L19: The model price is the invoice price.
A20: 1 | B20: =((2*$C$10*EXP(0.5*($C$7+$C$8+$C$10)*A20))/(($C$7+$C$8+$C$10)*(EXP(A20*$C$10)-1)+2*$C$10))^(2*$C$7*$C$6/$C$5^2) -> 0.99271575 | C20: =(2*(EXP(A20*$C$10)-1))/((($C$7+$C$8+$C$10)*(EXP(A20*$C$10)-1))+2*$C$10) -> 0.74853574 | E20: =((2*$D$10*EXP(0.5*($D$7+$D$8+$D$10)*A20))/(($D$7+$D$8+$D$10)*(EXP(A20*$D$10)-1)+2*$D$10))^(2*$D$7*$D$6/$D$5^2) -> 0.99843305 | F20: =(2*(EXP(A20*$D$10)-1))/(($D$7+$D$8+$D$10)*(EXP(A20*$D$10)-1)+2*$D$10) -> 0.97706001 | H20: =I17 -> 3.25 | I20: =H20*B20*EXP(-C20*$H$13)*E20*EXP(-F20*$H$14) -> 3.2015715 | J20: =H20/(1+$L$16/2)^(2*A20) -> 3.2047094 | L20: By contrast, market prices are quoted net of accrued interest.
A21: 1.5 | B21: =((2*$C$10*EXP(0.5*($C$7+$C$8+$C$10)*A21))/(($C$7+$C$8+$C$10)*(EXP(A21*$C$10)-1)+2*$C$10))^(2*$C$7*$C$6/$C$5^2) -> 0.98507164 | C21: =(2*(EXP(A21*$C$10)-1))/((($C$7+$C$8+$C$10)*(EXP(A21*$C$10)-1))+2*$C$10) -> 0.9825065 | E21: =((2*$D$10*EXP(0.5*($D$7+$D$8+$D$10)*A21))/(($D$7+$D$8+$D$10)*(EXP(A21*$D$10)-1)+2*$D$10))^(2*$D$7*$D$6/$D$5^2) -> 0.99650553 | F21: =(2*(EXP(A21*$D$10)-1))/(($D$7+$D$8+$D$10)*(EXP(A21*$D$10)-1)+2*$D$10) -> 1.4479617 | H21: =100+I17 -> 103.25 | I21: =H21*B21*EXP(-C21*$H$13)*E21*EXP(-F21*$H$14) -> 100.469 | J21: =H21/(1+$L$16/2)^(2*A21) -> 101.09927
F23: =SUM(I19:I21) -> 106.90229 | G23: Note Value under the 2F-CIR model. | J23: =SUM(J19:J21) -> 107.53125 | L23: =(E24-J23)^2*10000 -> 7.2701421e-23
A24: Market price of this note: | C24: (mid-point of the bid-ask spread.) | E24: ='Bloomberg Prices'!D3 -> 107.53125 | F24: =(F23-E24)^2*10000 -> 3955.9179
E25: --Note that the Bloomberg prices differ from those reported in the text. The ask looks correct (with some typos), but what Veronesi reports as the mid is actually the bid (with some typos).
B26: In a 2-factor model, neither factor is observable. Furthermore, the instantaneous risk-free rate is also not observable.
A28: Since the market price of the security exceeds the model price, if we place our faith in the model, we can sell the note and replicate it -- using model implied
B29: hedge ratios -- to make arbitrage profits.
A31: Use the 7.5 year note to replicate:
A32: Cash-flow Time | H32: Coupon: | I32: =5/2 -> 2.5 | K32: CIR | M32: ytm: | N32: 0.03653259
A33: (Years) | B33: A1 | C33: B1 | E33: A2 | F33: B2 | H33: Cash Flow | I33: PV of Cash Flow | K33: Discount
A34: 0.5 | B34: =((2*$C$10*EXP(0.5*($C$7+$C$8+$C$10)*A34))/(($C$7+$C$8+$C$10)*(EXP(A34*$C$10)-1)+2*$C$10))^(2*$C$7*$C$6/$C$5^2) -> 0.99799373 | C34: =(2*(EXP(A34*$C$10)-1))/((($C$7+$C$8+$C$10)*(EXP(A34*$C$10)-1))+2*$C$10) -> 0.43094895 | E34: =((2*$D$10*EXP(0.5*($D$7+$D$8+$D$10)*A34))/(($D$7+$D$8+$D$10)*(EXP(A34*$D$10)-1)+2*$D$10))^(2*$D$7*$D$6/$D$5^2) -> 0.99960498 | F34: =(2*(EXP(A34*$D$10)-1))/(($D$7+$D$8+$D$10)*(EXP(A34*$D$10)-1)+2*$D$10) -> 0.49431597 | H34: =$I$32 -> 2.5 | I34: =H34*B34*EXP(-C34*$H$13)*E34*EXP(-F34*$H$14) -> 2.4859348 | K34: =B34*EXP(-C34*$H$13)*E34*EXP(-F34*$H$14) -> 0.99437393 | M34: =H34/(1+$N$32/2)^(A34*2) -> 2.4551534
A35: 1 | B35: =((2*$C$10*EXP(0.5*($C$7+$C$8+$C$10)*A35))/(($C$7+$C$8+$C$10)*(EXP(A35*$C$10)-1)+2*$C$10))^(2*$C$7*$C$6/$C$5^2) -> 0.99271575 | C35: =(2*(EXP(A35*$C$10)-1))/((($C$7+$C$8+$C$10)*(EXP(A35*$C$10)-1))+2*$C$10) -> 0.74853574 | E35: =((2*$D$10*EXP(0.5*($D$7+$D$8+$D$10)*A35))/(($D$7+$D$8+$D$10)*(EXP(A35*$D$10)-1)+2*$D$10))^(2*$D$7*$D$6/$D$5^2) -> 0.99843305 | F35: =(2*(EXP(A35*$D$10)-1))/(($D$7+$D$8+$D$10)*(EXP(A35*$D$10)-1)+2*$D$10) -> 0.97706001 | H35: =$I$32 -> 2.5 | I35: =H35*B35*EXP(-C35*$H$13)*E35*EXP(-F35*$H$14) -> 2.4627473 | K35: =B35*EXP(-C35*$H$13)*E35*EXP(-F35*$H$14) -> 0.98509892 | M35: =H35/(1+$N$32/2)^(A35*2) -> 2.4111114
A36: 1.5 | B36: =((2*$C$10*EXP(0.5*($C$7+$C$8+$C$10)*A36))/(($C$7+$C$8+$C$10)*(EXP(A36*$C$10)-1)+2*$C$10))^(2*$C$7*$C$6/$C$5^2) -> 0.98507164 | C36: =(2*(EXP(A36*$C$10)-1))/((($C$7+$C$8+$C$10)*(EXP(A36*$C$10)-1))+2*$C$10) -> 0.9825065 | E36: =((2*$D$10*EXP(0.5*($D$7+$D$8+$D$10)*A36))/(($D$7+$D$8+$D$10)*(EXP(A36*$D$10)-1)+2*$D$10))^(2*$D$7*$D$6/$D$5^2) -> 0.99650553 | F36: =(2*(EXP(A36*$D$10)-1))/(($D$7+$D$8+$D$10)*(EXP(A36*$D$10)-1)+2*$D$10) -> 1.4479617 | H36: =$I$32 -> 2.5 | I36: =H36*B36*EXP(-C36*$H$13)*E36*EXP(-F36*$H$14) -> 2.4326635 | K36: =B36*EXP(-C36*$H$13)*E36*EXP(-F36*$H$14) -> 0.9730654 | M36: =H36/(1+$N$32/2)^(A36*2) -> 2.3678594
A37: 2 | B37: =((2*$C$10*EXP(0.5*($C$7+$C$8+$C$10)*A37))/(($C$7+$C$8+$C$10)*(EXP(A37*$C$10)-1)+2*$C$10))^(2*$C$7*$C$6/$C$5^2) -> 0.97574015 | C37: =(2*(EXP(A37*$C$10)-1))/((($C$7+$C$8+$C$10)*(EXP(A37*$C$10)-1))+2*$C$10) -> 1.1548359 | E37: =((2*$D$10*EXP(0.5*($D$7+$D$8+$D$10)*A37))/(($D$7+$D$8+$D$10)*(EXP(A37*$D$10)-1)+2*$D$10))^(2*$D$7*$D$6/$D$5^2) -> 0.99384571 | F37: =(2*(EXP(A37*$D$10)-1))/(($D$7+$D$8+$D$10)*(EXP(A37*$D$10)-1)+2*$D$10) -> 1.9067971 | H37: =$I$32 -> 2.5 | I37: =H37*B37*EXP(-C37*$H$13)*E37*EXP(-F37*$H$14) -> 2.3973859 | K37: =B37*EXP(-C37*$H$13)*E37*EXP(-F37*$H$14) -> 0.95895436 | M37: =H37/(1+$N$32/2)^(A37*2) -> 2.3253832
A38: 2.5 | B38: =((2*$C$10*EXP(0.5*($C$7+$C$8+$C$10)*A38))/(($C$7+$C$8+$C$10)*(EXP(A38*$C$10)-1)+2*$C$10))^(2*$C$7*$C$6/$C$5^2) -> 0.96522514 | C38: =(2*(EXP(A38*$C$10)-1))/((($C$7+$C$8+$C$10)*(EXP(A38*$C$10)-1))+2*$C$10) -> 1.2817421 | E38: =((2*$D$10*EXP(0.5*($D$7+$D$8+$D$10)*A38))/(($D$7+$D$8+$D$10)*(EXP(A38*$D$10)-1)+2*$D$10))^(2*$D$7*$D$6/$D$5^2) -> 0.99047868 | F38: =(2*(EXP(A38*$D$10)-1))/(($D$7+$D$8+$D$10)*(EXP(A38*$D$10)-1)+2*$D$10) -> 2.3533873 | H38: =$I$32 -> 2.5 | I38: =H38*B38*EXP(-C38*$H$13)*E38*EXP(-F38*$H$14) -> 2.3582114 | K38: =B38*EXP(-C38*$H$13)*E38*EXP(-F38*$H$14) -> 0.94328455 | M38: =H38/(1+$N$32/2)^(A38*2) -> 2.283669
A39: 3 | B39: =((2*$C$10*EXP(0.5*($C$7+$C$8+$C$10)*A39))/(($C$7+$C$8+$C$10)*(EXP(A39*$C$10)-1)+2*$C$10))^(2*$C$7*$C$6/$C$5^2) -> 0.95389799 | C39: =(2*(EXP(A39*$C$10)-1))/((($C$7+$C$8+$C$10)*(EXP(A39*$C$10)-1))+2*$C$10) -> 1.375186 | E39: =((2*$D$10*EXP(0.5*($D$7+$D$8+$D$10)*A39))/(($D$7+$D$8+$D$10)*(EXP(A39*$D$10)-1)+2*$D$10))^(2*$D$7*$D$6/$D$5^2) -> 0.986431 | F39: =(2*(EXP(A39*$D$10)-1))/(($D$7+$D$8+$D$10)*(EXP(A39*$D$10)-1)+2*$D$10) -> 2.7875975 | H39: =$I$32 -> 2.5 | I39: =H39*B39*EXP(-C39*$H$13)*E39*EXP(-F39*$H$14) -> 2.3161277 | K39: =B39*EXP(-C39*$H$13)*E39*EXP(-F39*$H$14) -> 0.92645106 | M39: =H39/(1+$N$32/2)^(A39*2) -> 2.2427032
A40: 3.5 | B40: =((2*$C$10*EXP(0.5*($C$7+$C$8+$C$10)*A40))/(($C$7+$C$8+$C$10)*(EXP(A40*$C$10)-1)+2*$C$10))^(2*$C$7*$C$6/$C$5^2) -> 0.94203093 | C40: =(2*(EXP(A40*$C$10)-1))/((($C$7+$C$8+$C$10)*(EXP(A40*$C$10)-1))+2*$C$10) -> 1.4439845 | E40: =((2*$D$10*EXP(0.5*($D$7+$D$8+$D$10)*A40))/(($D$7+$D$8+$D$10)*(EXP(A40*$D$10)-1)+2*$D$10))^(2*$D$7*$D$6/$D$5^2) -> 0.98173057 | F40: =(2*(EXP(A40*$D$10)-1))/(($D$7+$D$8+$D$10)*(EXP(A40*$D$10)-1)+2*$D$10) -> 3.2093347 | H40: =$I$32 -> 2.5 | I40: =H40*B40*EXP(-C40*$H$13)*E40*EXP(-F40*$H$14) -> 2.2718892 | K40: =B40*EXP(-C40*$H$13)*E40*EXP(-F40*$H$14) -> 0.9087557 | M40: =H40/(1+$N$32/2)^(A40*2) -> 2.2024722
A41: 4 | B41: =((2*$C$10*EXP(0.5*($C$7+$C$8+$C$10)*A41))/(($C$7+$C$8+$C$10)*(EXP(A41*$C$10)-1)+2*$C$10))^(2*$C$7*$C$6/$C$5^2) -> 0.92982262 | C41: =(2*(EXP(A41*$C$10)-1))/((($C$7+$C$8+$C$10)*(EXP(A41*$C$10)-1))+2*$C$10) -> 1.4946342 | E41: =((2*$D$10*EXP(0.5*($D$7+$D$8+$D$10)*A41))/(($D$7+$D$8+$D$10)*(EXP(A41*$D$10)-1)+2*$D$10))^(2*$D$7*$D$6/$D$5^2) -> 0.97640631 | F41: =(2*(EXP(A41*$D$10)-1))/(($D$7+$D$8+$D$10)*(EXP(A41*$D$10)-1)+2*$D$10) -> 3.6185464 | H41: =$I$32 -> 2.5 | I41: =H41*B41*EXP(-C41*$H$13)*E41*EXP(-F41*$H$14) -> 2.2260758 | K41: =B41*EXP(-C41*$H$13)*E41*EXP(-F41*$H$14) -> 0.89043034 | M41: =H41/(1+$N$32/2)^(A41*2) -> 2.1629628
A42: 4.5 | B42: =((2*$C$10*EXP(0.5*($C$7+$C$8+$C$10)*A42))/(($C$7+$C$8+$C$10)*(EXP(A42*$C$10)-1)+2*$C$10))^(2*$C$7*$C$6/$C$5^2) -> 0.91741742 | C42: =(2*(EXP(A42*$C$10)-1))/((($C$7+$C$8+$C$10)*(EXP(A42*$C$10)-1))+2*$C$10) -> 1.5319209 | E42: =((2*$D$10*EXP(0.5*($D$7+$D$8+$D$10)*A42))/(($D$7+$D$8+$D$10)*(EXP(A42*$D$10)-1)+2*$D$10))^(2*$D$7*$D$6/$D$5^2) -> 0.97048801 | F42: =(2*(EXP(A42*$D$10)-1))/(($D$7+$D$8+$D$10)*(EXP(A42*$D$10)-1)+2*$D$10) -> 4.0152179 | H42: =$I$32 -> 2.5 | I42: =H42*B42*EXP(-C42*$H$13)*E42*EXP(-F42*$H$14) -> 2.1791365 | K42: =B42*EXP(-C42*$H$13)*E42*EXP(-F42*$H$14) -> 0.87165461 | M42: =H42/(1+$N$32/2)^(A42*2) -> 2.1241623
A43: 5 | B43: =((2*$C$10*EXP(0.5*($C$7+$C$8+$C$10)*A43))/(($C$7+$C$8+$C$10)*(EXP(A43*$C$10)-1)+2*$C$10))^(2*$C$7*$C$6/$C$5^2) -> 0.9049199 | C43: =(2*(EXP(A43*$C$10)-1))/((($C$7+$C$8+$C$10)*(EXP(A43*$C$10)-1))+2*$C$10) -> 1.559369 | E43: =((2*$D$10*EXP(0.5*($D$7+$D$8+$D$10)*A43))/(($D$7+$D$8+$D$10)*(EXP(A43*$D$10)-1)+2*$D$10))^(2*$D$7*$D$6/$D$5^2) -> 0.96400608 | F43: =(2*(EXP(A43*$D$10)-1))/(($D$7+$D$8+$D$10)*(EXP(A43*$D$10)-1)+2*$D$10) -> 4.3993707 | H43: =$I$32 -> 2.5 | I43: =H43*B43*EXP(-C43*$H$13)*E43*EXP(-F43*$H$14) -> 2.1314228 | K43: =B43*EXP(-C43*$H$13)*E43*EXP(-F43*$H$14) -> 0.85256914 | M43: =H43/(1+$N$32/2)^(A43*2) -> 2.0860577
A44: 5.5 | B44: =((2*$C$10*EXP(0.5*($C$7+$C$8+$C$10)*A44))/(($C$7+$C$8+$C$10)*(EXP(A44*$C$10)-1)+2*$C$10))^(2*$C$7*$C$6/$C$5^2) -> 0.89240547 | C44: =(2*(EXP(A44*$C$10)-1))/((($C$7+$C$8+$C$10)*(EXP(A44*$C$10)-1))+2*$C$10) -> 1.5795742 | E44: =((2*$D$10*EXP(0.5*($D$7+$D$8+$D$10)*A44))/(($D$7+$D$8+$D$10)*(EXP(A44*$D$10)-1)+2*$D$10))^(2*$D$7*$D$6/$D$5^2) -> 0.95699136 | F44: =(2*(EXP(A44*$D$10)-1))/(($D$7+$D$8+$D$10)*(EXP(A44*$D$10)-1)+2*$D$10) -> 4.7710599 | H44: =$I$32 -> 2.5 | I44: =H44*B44*EXP(-C44*$H$13)*E44*EXP(-F44*$H$14) -> 2.0832134 | K44: =B44*EXP(-C44*$H$13)*E44*EXP(-F44*$H$14) -> 0.83328534 | M44: =H44/(1+$N$32/2)^(A44*2) -> 2.0486367
A45: 6 | B45: =((2*$C$10*EXP(0.5*($C$7+$C$8+$C$10)*A45))/(($C$7+$C$8+$C$10)*(EXP(A45*$C$10)-1)+2*$C$10))^(2*$C$7*$C$6/$C$5^2) -> 0.87992826 | C45: =(2*(EXP(A45*$C$10)-1))/((($C$7+$C$8+$C$10)*(EXP(A45*$C$10)-1))+2*$C$10) -> 1.5944472 | E45: =((2*$D$10*EXP(0.5*($D$7+$D$8+$D$10)*A45))/(($D$7+$D$8+$D$10)*(EXP(A45*$D$10)-1)+2*$D$10))^(2*$D$7*$D$6/$D$5^2) -> 0.9494749 | F45: =(2*(EXP(A45*$D$10)-1))/(($D$7+$D$8+$D$10)*(EXP(A45*$D$10)-1)+2*$D$10) -> 5.1303718 | H45: =$I$32 -> 2.5 | I45: =H45*B45*EXP(-C45*$H$13)*E45*EXP(-F45*$H$14) -> 2.0347318 | K45: =B45*EXP(-C45*$H$13)*E45*EXP(-F45*$H$14) -> 0.8138927 | M45: =H45/(1+$N$32/2)^(A45*2) -> 2.011887
... A47: 7 | B47: =((2*$C$10*EXP(0.5*($C$7+$C$8+$C$10)*A47))/(($C$7+$C$8+$C$10)*(EXP(A47*$C$10)-1)+2*$C$10))^(2*$C$7*$C$6/$C$5^2) -> 0.85522882 | C47: =(2*(EXP(A47*$C$10)-1))/((($C$7+$C$8+$C$10)*(EXP(A47*$C$10)-1))+2*$C$10) -> 1.6134539 | E47: =((2*$D$10*EXP(0.5*($D$7+$D$8+$D$10)*A47))/(($D$7+$D$8+$D$10)*(EXP(A47*$D$10)-1)+2*$D$10))^(2*$D$7*$D$6/$D$5^2) -> 0.93306121 | F47: =(2*(EXP(A47*$D$10)-1))/(($D$7+$D$8+$D$10)*(EXP(A47*$D$10)-1)+2*$D$10) -> 5.8123513 | H47: =$I$32 -> 2.5 | I47: =H47*B47*EXP(-C47*$H$13)*E47*EXP(-F47*$H$14) -> 1.9376489 | K47: =B47*EXP(-C47*$H$13)*E47*EXP(-F47*$H$14) -> 0.77505958 | M47: =H47/(1+$N$32/2)^(A47*2) -> 1.9403534
A48: 7.5 | B48: =((2*$C$10*EXP(0.5*($C$7+$C$8+$C$10)*A48))/(($C$7+$C$8+$C$10)*(EXP(A48*$C$10)-1)+2*$C$10))^(2*$C$7*$C$6/$C$5^2) -> 0.84305315 | C48: =(2*(EXP(A48*$C$10)-1))/((($C$7+$C$8+$C$10)*(EXP(A48*$C$10)-1))+2*$C$10) -> 1.6193857 | E48: =((2*$D$10*EXP(0.5*($D$7+$D$8+$D$10)*A48))/(($D$7+$D$8+$D$10)*(EXP(A48*$D$10)-1)+2*$D$10))^(2*$D$7*$D$6/$D$5^2) -> 0.92422575 | F48: =(2*(EXP(A48*$D$10)-1))/(($D$7+$D$8+$D$10)*(EXP(A48*$D$10)-1)+2*$D$10) -> 6.1353261 | H48: =100+I32 -> 102.5 | I48: =H48*B48*EXP(-C48*$H$13)*E48*EXP(-F48*$H$14) -> 77.462276 | K48: =B48*EXP(-C48*$H$13)*E48*EXP(-F48*$H$14) -> 0.75572952 | M48: =H48/(1+$N$32/2)^(A48*2) -> 78.127393
I50: =SUM(I34:I48) -> 108.76562 | M50: =SUM(M34:M48) -> 108.7656
...

Sheet Bloomberg Prices
A1: T 6.5 08/15/05 Govt | F1: T 5 08/15/11 Govt | K1: T 7.125 02/15/23 Govt
A2: Date | B2: PX_ASK | C2: PX_BID | D2: PX_LAST | F2: Date | G2: PX_ASK | H2: PX_BID | I2: PX_LAST | K2: Date | L2: PX_ASK | M2: PX_BID | N2: PX_LAST
A3: 36572 | B3: 107.5625 | C3: 107.5 | D3: 107.53125 | F3: 36572 | G3: 108.79688 | H3: 108.73438 | I3: 108.76562 | K3: 36572 | L3: 127.85938 | M3: 127.79688 | N3: 127.82812
A4: 36573 | B4: 107.53125 | C4: 107.46875 | D4: 107.5 | F4: 36573 | G4: 108.70312 | H4: 108.64062 | I4: 108.67188 | K4: 36573 | L4: 127.84375 | M4: 127.78125 | N4: 127.8125
A5: 36574 | B5: 107.5625 | C5: 107.5 | D5: 107.53125 | F5: 36574 | G5: 108.82812 | H5: 108.76562 | I5: 108.79688 | K5: 36574 | L5: 128.0625 | M5: 128 | N5: 128.03125
A6: 36575 | B6: 107.4375 | C6: 107.375 | D6: 107.40625 | F6: 36575 | G6: 108.35938 | H6: 108.29688 | I6: 108.32812 | K6: 36575 | L6: 127.1875 | M6: 127.125 | N6: 127.15625
A7: 36578 | B7: 107.5 | C7: 107.4375 | D7: 107.46875 | F7: 36578 | G7: 108.8125 | H7: 108.75 | I7: 108.78125 | K7: 36578 | L7: 128.01562 | M7: 127.95312 | N7: 127.98438
A8: 36579 | B8: 107.51562 | C8: 107.45312 | D8: 107.48438 | F8: 36579 | G8: 108.90625 | H8: 108.84375 | I8: 108.875 | K8: 36579 | L8: 128.0625 | M8: 128 | N8: 128.03125
A9: 36580 | B9: 107.53125 | C9: 107.46875 | D9: 107.5 | F9: 36580 | G9: 109.01562 | H9: 108.95312 | I9: 108.98438 | K9: 36580 | L9: 128.25 | M9: 128.1875 | N9: 128.21875
A10: 36581 | B10: 107.48438 | C10: 107.42188 | D10: 107.45312 | F10: 36581 | G10: 108.82812 | H10: 108.76562 | I10: 108.79688 | K10: 36581 | L10: 127.875 | M10: 127.8125 | N10: 127.84375
A11: 36582 | B11: 107.48438 | C11: 107.42188 | D11: 107.45312 | F11: 36582 | G11: 109.26562 | H11: 109.20312 | I11: 109.23438 | K11: 36582 | L11: 128.90625 | M11: 128.84375 | N11: 128.875
A12: 36585 | B12: 107.45312 | C12: 107.39062 | D12: 107.42188 | F12: 36585 | G12: 109.20312 | H12: 109.14062 | I12: 109.17188 | K12: 36585 | L12: 128.90625 | M12: 128.84375 | N12: 128.875
A13: 36586 | B13: 107.3125 | C13: 107.25 | D13: 107.28125 | F13: 36586 | G13: 108.70312 | H13: 108.64062 | I13: 108.67188 | K13: 36586 | L13: 127.875 | M13: 127.8125 | N13: 127.84375
A14: 36587 | B14: 107.29688 | C14: 107.23438 | D14: 107.26562 | F14: 36587 | G14: 108.64062 | H14: 108.57812 | I14: 108.60938 | K14: 36587 | L14: 127.8125 | M14: 127.75 | N14: 127.78125
... A67: 36662 | B67: 105.60938 | C67: 105.54688 | D67: 105.57812 | F67: 36662 | G67: 104.10938 | H67: 104.04688 | I67: 104.07812 | K67: 36662 | L67: 119.79688 | M67: 119.73438 | N67: 119.76562

Sheet Sheet4
