Workbook

Sheet OC 1
A1: The first step in the Orange County Case is to bootstrap the yield curve.
B2: --Remember that the yield curve shows the yields on 0-coupon securities as a function of term.
A4: The first approach to generate the yield curve (which we saw in 542), looks at coupon bonds--staggered at 6 month terms--to get the value of each cash flow, and then ascertain the discount factor for each date.
A6: This is the first 6 from Tables 2.6 and 2.7 on pp. 63-64.
B7: You should verify the last 5 rows in Table 2.7.
A8: Today | B8: 32872
C9: Mat | D9: Cpn | E9: Bid | F9: Ask | G9: Zb(0,T) | H9: Za(0,T) | L9: Coupon Bond Cash flows | N9: Value @ mp
C10: 33053 | D10: 0 | E10: 98.3911 | F10: 98.4012 | G10: =E10/100 -> 0.983911 | H10: =F10/100 -> 0.984012 | I10: Intermediate Cash Flows:
C11: 33237 | D11: 7.625 | E11: 103.8125 | F11: 103.875 | G11: =I12/I13 -> 0.963866 | H11: =J12/J13 -> 0.96446434 | I11: =0.5*D11*G10 -> 3.7511607 | J11: =0.5*D11*H10 -> 3.7515458 | L11: 15 | N11: =L11*0.5*(G11+H11) -> 14.462478
I12: =E11-I11 -> 100.06134 | J12: =F11-J11 -> 100.12345
I13: =(100+0.5*D11) -> 103.8125 | J13: =(100+0.5*D11) -> 103.8125
C15: 33418 | D15: 4.125 | E15: 100.1875 | F15: 100.25 | G15: =I17/I18 -> 0.94226783 | H15: =J17/J18 -> 0.94286606 | I15: =0.5*$D15*G10 -> 2.0293164 | J15: =0.5*$D15*H10 -> 2.0295248
I16: =0.5*$D15*G11 -> 1.9879736 | J16: =0.5*$D15*H11 -> 1.9892077
I17: =E15-I15-I16 -> 96.17021 | J17: =F15-J15-J16 -> 96.231268
I18: =100+0.5*D15 -> 102.0625 | J18: =100+0.5*D15 -> 102.0625
C20: 33602 | D20: 4.25 | E20: 100 | F20: 100.0625 | G20: =I23/I24 -> 0.91905659 | H20: =J23/J24 -> 0.91964159 | I20: =0.5*$D20*G10 -> 2.0908109 | J20: =0.5*$D20*H10 -> 2.0910255 | L20: 15 | N20: =L20*0.5*(G20+H20) -> 13.790236
I21: =0.5*$D20*G11 -> 2.0482153 | J21: =0.5*$D20*H11 -> 2.0494867
I22: =0.5*$D20*G15 -> 2.0023191 | J22: =0.5*$D20*H15 -> 2.0035904
I23: =E20-I20-I21-I22 -> 93.858655 | J23: =F20-J20-J21-J22 -> 93.918397
I24: =100+0.5*D20 -> 102.125 | J24: =100+0.5*D20 -> 102.125
C26: 33784 | D26: 7.875 | E26: 108.6875 | F26: 108.75 | G26: =I30/I31 -> 0.90139904 | H26: =J30/J31 -> 0.90192905 | I26: =0.5*$D$26*G10 -> 3.8741496 | J26: =0.5*$D$26*H10 -> 3.8745472
I27: =0.5*$D$26*G11 -> 3.7952224 | J27: =0.5*$D$26*H11 -> 3.7975783
I28: =0.5*$D$26*G15 -> 3.7101796 | J28: =0.5*$D$26*H15 -> 3.7125351
I29: =0.5*$D$26*G20 -> 3.6187853 | J29: =0.5*$D$26*H20 -> 3.6210888
I30: =E26-I26-I27-I28-I29 -> 93.689163 | J30: =F26-J26-J27-J28-J29 -> 93.744251
I31: =100+0.5*D26 -> 103.9375 | J31: =100+0.5*D26 -> 103.9375
C34: 33968 | D34: 6.125 | E34: 104.5313 | F34: 104.5938 | G34: =I39/I40 -> 0.87427913 | H34: =J39/J40 -> 0.87481386 | I34: =0.5*$D$34*G10 -> 3.0132274 | J34: =0.5*$D$34*H10 -> 3.0135368 | L34: =$A$57+100 -> 115 | N34: =L34*0.5*(G34+H34) -> 100.57285
I35: =0.5*$D$34*G11 -> 2.9518396 | J35: =0.5*$D$34*H11 -> 2.953672
I36: =0.5*$D$34*G15 -> 2.8856952 | J36: =0.5*$D$34*H15 -> 2.8875273
I37: =0.5*$D$34*G20 -> 2.8146108 | J37: =0.5*$D$34*H20 -> 2.8164024
I38: =0.5*$D$34*G26 -> 2.7605346 | J38: =0.5*$D$34*H26 -> 2.7621577
I39: =E34-I34-I35-I36-I37-I38 -> 90.105392 | J39: =F34-J34-J35-J36-J37-J38 -> 90.160504
I40: =100+0.5*D34 -> 103.0625 | J40: =100+0.5*D34 -> 103.0625
A42: Note: To price the bonds, he uses the mid-point of the bid and ask discounts.
A45: This inverse floater is structured: C(t) = 15% - r1(t-1)
A46: So its future cash flows are: | C46: Date | D46: Cash Flow
C47: 33237 | D47: max(0,15-100*r1(0)) | F47: Notation: | G47: r1(0) refers to the 1-year spot rate on day 0 (i.e., 12/31/93)
C48: 33602 | D48: max(0,15-100*r1(1)) | G48: r1(1) refers to the 1-year spot rate on day 1 (i.e., 12/31/94)
C49: 33968 | D49: 100+max(0,15-100*r1(2)) | G49: r1(2) refers to the 1-year spot rate on day 2 (i.e., 12/31/95)
C55: PZ(0,3) : | D55: =100*0.5*(G34+H34) -> 87.454649
...

Sheet NS P1
A1: Note that the first parameter (theta_0) works as a level factor.
A4: Parameters | B4: T | C4: Implied Yld
A5: 0.030867903 | B5: 0.5 | C5: =$A$5+($A$6+$A$7)*((1-EXP(-B5/$A$8))/(B5/$A$8))-$A$7*EXP(-B5/$A$8) -> 0.033975496
A6: 0 | B6: 1 | C6: =$A$5+($A$6+$A$7)*((1-EXP(-B6/$A$8))/(B6/$A$8))-$A$7*EXP(-B6/$A$8) -> 0.03667547
A7: 0.064556873 | B7: 1.5 | C7: =$A$5+($A$6+$A$7)*((1-EXP(-B7/$A$8))/(B7/$A$8))-$A$7*EXP(-B7/$A$8) -> 0.03901286
A8: 4.8499635 | B8: 2 | C8: =$A$5+($A$6+$A$7)*((1-EXP(-B8/$A$8))/(B8/$A$8))-$A$7*EXP(-B8/$A$8) -> 0.041027991
B9: 2.5 | C9: =$A$5+($A$6+$A$7)*((1-EXP(-B9/$A$8))/(B9/$A$8))-$A$7*EXP(-B9/$A$8) -> 0.04275695
B10: 3 | C10: =$A$5+($A$6+$A$7)*((1-EXP(-B10/$A$8))/(B10/$A$8))-$A$7*EXP(-B10/$A$8) -> 0.044232031
B11: 3.5 | C11: =$A$5+($A$6+$A$7)*((1-EXP(-B11/$A$8))/(B11/$A$8))-$A$7*EXP(-B11/$A$8) -> 0.045482113
B12: 4 | C12: =$A$5+($A$6+$A$7)*((1-EXP(-B12/$A$8))/(B12/$A$8))-$A$7*EXP(-B12/$A$8) -> 0.046533018
B13: 4.5 | C13: =$A$5+($A$6+$A$7)*((1-EXP(-B13/$A$8))/(B13/$A$8))-$A$7*EXP(-B13/$A$8) -> 0.047407822
B14: 5 | C14: =$A$5+($A$6+$A$7)*((1-EXP(-B14/$A$8))/(B14/$A$8))-$A$7*EXP(-B14/$A$8) -> 0.048127137
B15: 5.5 | C15: =$A$5+($A$6+$A$7)*((1-EXP(-B15/$A$8))/(B15/$A$8))-$A$7*EXP(-B15/$A$8) -> 0.048709368
B16: 6 | C16: =$A$5+($A$6+$A$7)*((1-EXP(-B16/$A$8))/(B16/$A$8))-$A$7*EXP(-B16/$A$8) -> 0.04917094
B17: 6.5 | C17: =$A$5+($A$6+$A$7)*((1-EXP(-B17/$A$8))/(B17/$A$8))-$A$7*EXP(-B17/$A$8) -> 0.049526501
B18: 7 | C18: =$A$5+($A$6+$A$7)*((1-EXP(-B18/$A$8))/(B18/$A$8))-$A$7*EXP(-B18/$A$8) -> 0.049789112
B19: 7.5 | C19: =$A$5+($A$6+$A$7)*((1-EXP(-B19/$A$8))/(B19/$A$8))-$A$7*EXP(-B19/$A$8) -> 0.049970403
B20: 8 | C20: =$A$5+($A$6+$A$7)*((1-EXP(-B20/$A$8))/(B20/$A$8))-$A$7*EXP(-B20/$A$8) -> 0.050080734
... B24: 10 | C24: =$A$5+($A$6+$A$7)*((1-EXP(-B24/$A$8))/(B24/$A$8))-$A$7*EXP(-B24/$A$8) -> 0.049981998
A30: Parameters | B30: T | C30: Implied Yld
A31: 0.04 | B31: 0.5 | C31: =$A$31+($A$32+$A$33)*((1-EXP(-B31/$A$34))/(B31/$A$34))-$A$33*EXP(-B31/$A$34) -> 0.043107593
A32: 0 | B32: 1 | C32: =$A$31+($A$32+$A$33)*((1-EXP(-B32/$A$34))/(B32/$A$34))-$A$33*EXP(-B32/$A$34) -> 0.045807567
A33: 0.064556873 | B33: 1.5 | C33: =$A$31+($A$32+$A$33)*((1-EXP(-B33/$A$34))/(B33/$A$34))-$A$33*EXP(-B33/$A$34) -> 0.048144958
A34: 4.8499635 | B34: 2 | C34: =$A$31+($A$32+$A$33)*((1-EXP(-B34/$A$34))/(B34/$A$34))-$A$33*EXP(-B34/$A$34) -> 0.050160088
B35: 2.5 | C35: =$A$31+($A$32+$A$33)*((1-EXP(-B35/$A$34))/(B35/$A$34))-$A$33*EXP(-B35/$A$34) -> 0.051889048
B36: 3 | C36: =$A$31+($A$32+$A$33)*((1-EXP(-B36/$A$34))/(B36/$A$34))-$A$33*EXP(-B36/$A$34) -> 0.053364128
B37: 3.5 | C37: =$A$31+($A$32+$A$33)*((1-EXP(-B37/$A$34))/(B37/$A$34))-$A$33*EXP(-B37/$A$34) -> 0.054614211
B38: 4 | C38: =$A$31+($A$32+$A$33)*((1-EXP(-B38/$A$34))/(B38/$A$34))-$A$33*EXP(-B38/$A$34) -> 0.055665116
B39: 4.5 | C39: =$A$31+($A$32+$A$33)*((1-EXP(-B39/$A$34))/(B39/$A$34))-$A$33*EXP(-B39/$A$34) -> 0.056539919
B40: 5 | C40: =$A$31+($A$32+$A$33)*((1-EXP(-B40/$A$34))/(B40/$A$34))-$A$33*EXP(-B40/$A$34) -> 0.057259234
B41: 5.5 | C41: =$A$31+($A$32+$A$33)*((1-EXP(-B41/$A$34))/(B41/$A$34))-$A$33*EXP(-B41/$A$34) -> 0.057841466
B42: 6 | C42: =$A$31+($A$32+$A$33)*((1-EXP(-B42/$A$34))/(B42/$A$34))-$A$33*EXP(-B42/$A$34) -> 0.058303037
B43: 6.5 | C43: =$A$31+($A$32+$A$33)*((1-EXP(-B43/$A$34))/(B43/$A$34))-$A$33*EXP(-B43/$A$34) -> 0.058658599
B44: 7 | C44: =$A$31+($A$32+$A$33)*((1-EXP(-B44/$A$34))/(B44/$A$34))-$A$33*EXP(-B44/$A$34) -> 0.058921209
B45: 7.5 | C45: =$A$31+($A$32+$A$33)*((1-EXP(-B45/$A$34))/(B45/$A$34))-$A$33*EXP(-B45/$A$34) -> 0.059102501
B46: 8 | C46: =$A$31+($A$32+$A$33)*((1-EXP(-B46/$A$34))/(B46/$A$34))-$A$33*EXP(-B46/$A$34) -> 0.059212831
... B50: 10 | C50: =$A$31+($A$32+$A$33)*((1-EXP(-B50/$A$34))/(B50/$A$34))-$A$33*EXP(-B50/$A$34) -> 0.059114096

Sheet NS P2
A1: Note that the second parameter (theta_1) changes both the level and slope of the yield curve.
A4: Parameters | B4: T | C4: Implied Yld
A5: 0.030867903 | B5: 0.5 | C5: =$A$5+($A$6+$A$7)*((1-EXP(-B5/$A$8))/(B5/$A$8))-$A$7*EXP(-B5/$A$8) -> 0.033975496
A6: 0 | B6: 1 | C6: =$A$5+($A$6+$A$7)*((1-EXP(-B6/$A$8))/(B6/$A$8))-$A$7*EXP(-B6/$A$8) -> 0.03667547
A7: 0.064556873 | B7: 1.5 | C7: =$A$5+($A$6+$A$7)*((1-EXP(-B7/$A$8))/(B7/$A$8))-$A$7*EXP(-B7/$A$8) -> 0.03901286
A8: 4.8499635 | B8: 2 | C8: =$A$5+($A$6+$A$7)*((1-EXP(-B8/$A$8))/(B8/$A$8))-$A$7*EXP(-B8/$A$8) -> 0.041027991
B9: 2.5 | C9: =$A$5+($A$6+$A$7)*((1-EXP(-B9/$A$8))/(B9/$A$8))-$A$7*EXP(-B9/$A$8) -> 0.04275695
B10: 3 | C10: =$A$5+($A$6+$A$7)*((1-EXP(-B10/$A$8))/(B10/$A$8))-$A$7*EXP(-B10/$A$8) -> 0.044232031
B11: 3.5 | C11: =$A$5+($A$6+$A$7)*((1-EXP(-B11/$A$8))/(B11/$A$8))-$A$7*EXP(-B11/$A$8) -> 0.045482113
B12: 4 | C12: =$A$5+($A$6+$A$7)*((1-EXP(-B12/$A$8))/(B12/$A$8))-$A$7*EXP(-B12/$A$8) -> 0.046533018
B13: 4.5 | C13: =$A$5+($A$6+$A$7)*((1-EXP(-B13/$A$8))/(B13/$A$8))-$A$7*EXP(-B13/$A$8) -> 0.047407822
B14: 5 | C14: =$A$5+($A$6+$A$7)*((1-EXP(-B14/$A$8))/(B14/$A$8))-$A$7*EXP(-B14/$A$8) -> 0.048127137
B15: 5.5 | C15: =$A$5+($A$6+$A$7)*((1-EXP(-B15/$A$8))/(B15/$A$8))-$A$7*EXP(-B15/$A$8) -> 0.048709368
B16: 6 | C16: =$A$5+($A$6+$A$7)*((1-EXP(-B16/$A$8))/(B16/$A$8))-$A$7*EXP(-B16/$A$8) -> 0.04917094
B17: 6.5 | C17: =$A$5+($A$6+$A$7)*((1-EXP(-B17/$A$8))/(B17/$A$8))-$A$7*EXP(-B17/$A$8) -> 0.049526501
B18: 7 | C18: =$A$5+($A$6+$A$7)*((1-EXP(-B18/$A$8))/(B18/$A$8))-$A$7*EXP(-B18/$A$8) -> 0.049789112
B19: 7.5 | C19: =$A$5+($A$6+$A$7)*((1-EXP(-B19/$A$8))/(B19/$A$8))-$A$7*EXP(-B19/$A$8) -> 0.049970403
B20: 8 | C20: =$A$5+($A$6+$A$7)*((1-EXP(-B20/$A$8))/(B20/$A$8))-$A$7*EXP(-B20/$A$8) -> 0.050080734
... B24: 10 | C24: =$A$5+($A$6+$A$7)*((1-EXP(-B24/$A$8))/(B24/$A$8))-$A$7*EXP(-B24/$A$8) -> 0.049981998
A30: Parameters | B30: T | C30: Implied Yld
A31: 0.030867903 | B31: 0.5 | C31: =$A$31+($A$32+$A$33)*((1-EXP(-B31/$A$34))/(B31/$A$34))-$A$33*EXP(-B31/$A$34) -> 0.014971898
A32: -0.02 | B32: 1 | C32: =$A$31+($A$32+$A$33)*((1-EXP(-B32/$A$34))/(B32/$A$34))-$A$33*EXP(-B32/$A$34) -> 0.018602644
A33: 0.064556873 | B33: 1.5 | C33: =$A$31+($A$32+$A$33)*((1-EXP(-B33/$A$34))/(B33/$A$34))-$A$33*EXP(-B33/$A$34) -> 0.021810022
A34: 4.8499635 | B34: 2 | C34: =$A$31+($A$32+$A$33)*((1-EXP(-B34/$A$34))/(B34/$A$34))-$A$33*EXP(-B34/$A$34) -> 0.024638822
B35: 2.5 | C35: =$A$31+($A$32+$A$33)*((1-EXP(-B35/$A$34))/(B35/$A$34))-$A$33*EXP(-B35/$A$34) -> 0.027129249
B36: 3 | C36: =$A$31+($A$32+$A$33)*((1-EXP(-B36/$A$34))/(B36/$A$34))-$A$33*EXP(-B36/$A$34) -> 0.029317388
B37: 3.5 | C37: =$A$31+($A$32+$A$33)*((1-EXP(-B37/$A$34))/(B37/$A$34))-$A$33*EXP(-B37/$A$34) -> 0.031235619
B38: 4 | C38: =$A$31+($A$32+$A$33)*((1-EXP(-B38/$A$34))/(B38/$A$34))-$A$33*EXP(-B38/$A$34) -> 0.032912993
B39: 4.5 | C39: =$A$31+($A$32+$A$33)*((1-EXP(-B39/$A$34))/(B39/$A$34))-$A$33*EXP(-B39/$A$34) -> 0.034375562
B40: 5 | C40: =$A$31+($A$32+$A$33)*((1-EXP(-B40/$A$34))/(B40/$A$34))-$A$33*EXP(-B40/$A$34) -> 0.035646689
B41: 5.5 | C41: =$A$31+($A$32+$A$33)*((1-EXP(-B41/$A$34))/(B41/$A$34))-$A$33*EXP(-B41/$A$34) -> 0.036747318
B42: 6 | C42: =$A$31+($A$32+$A$33)*((1-EXP(-B42/$A$34))/(B42/$A$34))-$A$33*EXP(-B42/$A$34) -> 0.037696218
B43: 6.5 | C43: =$A$31+($A$32+$A$33)*((1-EXP(-B43/$A$34))/(B43/$A$34))-$A$33*EXP(-B43/$A$34) -> 0.038510205
B44: 7 | C44: =$A$31+($A$32+$A$33)*((1-EXP(-B44/$A$34))/(B44/$A$34))-$A$33*EXP(-B44/$A$34) -> 0.039204341
B45: 7.5 | C45: =$A$31+($A$32+$A$33)*((1-EXP(-B45/$A$34))/(B45/$A$34))-$A$33*EXP(-B45/$A$34) -> 0.039792111
B46: 8 | C46: =$A$31+($A$32+$A$33)*((1-EXP(-B46/$A$34))/(B46/$A$34))-$A$33*EXP(-B46/$A$34) -> 0.040285584
... B50: 10 | C50: =$A$31+($A$32+$A$33)*((1-EXP(-B50/$A$34))/(B50/$A$34))-$A$33*EXP(-B50/$A$34) -> 0.041516054

Sheet NS P3
A1: Note that the third parameter (theta_2) primarily changes the slope of the yield curve.
A4: Parameters | B4: T | C4: Implied Yld
A5: 0.030867903 | B5: 0.5 | C5: =$A$5+($A$6+$A$7)*((1-EXP(-B5/$A$8))/(B5/$A$8))-$A$7*EXP(-B5/$A$8) -> 0.033975496
A6: 0 | B6: 1 | C6: =$A$5+($A$6+$A$7)*((1-EXP(-B6/$A$8))/(B6/$A$8))-$A$7*EXP(-B6/$A$8) -> 0.03667547
A7: 0.064556873 | B7: 1.5 | C7: =$A$5+($A$6+$A$7)*((1-EXP(-B7/$A$8))/(B7/$A$8))-$A$7*EXP(-B7/$A$8) -> 0.03901286
A8: 4.8499635 | B8: 2 | C8: =$A$5+($A$6+$A$7)*((1-EXP(-B8/$A$8))/(B8/$A$8))-$A$7*EXP(-B8/$A$8) -> 0.041027991
B9: 2.5 | C9: =$A$5+($A$6+$A$7)*((1-EXP(-B9/$A$8))/(B9/$A$8))-$A$7*EXP(-B9/$A$8) -> 0.04275695
B10: 3 | C10: =$A$5+($A$6+$A$7)*((1-EXP(-B10/$A$8))/(B10/$A$8))-$A$7*EXP(-B10/$A$8) -> 0.044232031
B11: 3.5 | C11: =$A$5+($A$6+$A$7)*((1-EXP(-B11/$A$8))/(B11/$A$8))-$A$7*EXP(-B11/$A$8) -> 0.045482113
B12: 4 | C12: =$A$5+($A$6+$A$7)*((1-EXP(-B12/$A$8))/(B12/$A$8))-$A$7*EXP(-B12/$A$8) -> 0.046533018
B13: 4.5 | C13: =$A$5+($A$6+$A$7)*((1-EXP(-B13/$A$8))/(B13/$A$8))-$A$7*EXP(-B13/$A$8) -> 0.047407822
B14: 5 | C14: =$A$5+($A$6+$A$7)*((1-EXP(-B14/$A$8))/(B14/$A$8))-$A$7*EXP(-B14/$A$8) -> 0.048127137
B15: 5.5 | C15: =$A$5+($A$6+$A$7)*((1-EXP(-B15/$A$8))/(B15/$A$8))-$A$7*EXP(-B15/$A$8) -> 0.048709368
B16: 6 | C16: =$A$5+($A$6+$A$7)*((1-EXP(-B16/$A$8))/(B16/$A$8))-$A$7*EXP(-B16/$A$8) -> 0.04917094
B17: 6.5 | C17: =$A$5+($A$6+$A$7)*((1-EXP(-B17/$A$8))/(B17/$A$8))-$A$7*EXP(-B17/$A$8) -> 0.049526501
B18: 7 | C18: =$A$5+($A$6+$A$7)*((1-EXP(-B18/$A$8))/(B18/$A$8))-$A$7*EXP(-B18/$A$8) -> 0.049789112
B19: 7.5 | C19: =$A$5+($A$6+$A$7)*((1-EXP(-B19/$A$8))/(B19/$A$8))-$A$7*EXP(-B19/$A$8) -> 0.049970403
B20: 8 | C20: =$A$5+($A$6+$A$7)*((1-EXP(-B20/$A$8))/(B20/$A$8))-$A$7*EXP(-B20/$A$8) -> 0.050080734
... B24: 10 | C24: =$A$5+($A$6+$A$7)*((1-EXP(-B24/$A$8))/(B24/$A$8))-$A$7*EXP(-B24/$A$8) -> 0.049981998
A30: Parameters | B30: T | C30: Implied Yld
A31: 0.030867903 | B31: 0.5 | C31: =$A$31+($A$32+$A$33)*((1-EXP(-B31/$A$34))/(B31/$A$34))-$A$33*EXP(-B31/$A$34) -> 0.032793394
A32: 0 | B32: 1 | C32: =$A$31+($A$32+$A$33)*((1-EXP(-B32/$A$34))/(B32/$A$34))-$A$33*EXP(-B32/$A$34) -> 0.034466322
A33: 0.04 | B33: 1.5 | C33: =$A$31+($A$32+$A$33)*((1-EXP(-B33/$A$34))/(B33/$A$34))-$A$33*EXP(-B33/$A$34) -> 0.035914589
A34: 4.8499635 | B34: 2 | C34: =$A$31+($A$32+$A$33)*((1-EXP(-B34/$A$34))/(B34/$A$34))-$A$33*EXP(-B34/$A$34) -> 0.037163181
B35: 2.5 | C35: =$A$31+($A$32+$A$33)*((1-EXP(-B35/$A$34))/(B35/$A$34))-$A$33*EXP(-B35/$A$34) -> 0.03823446
B36: 3 | C36: =$A$31+($A$32+$A$33)*((1-EXP(-B36/$A$34))/(B36/$A$34))-$A$33*EXP(-B36/$A$34) -> 0.039148433
B37: 3.5 | C37: =$A$31+($A$32+$A$33)*((1-EXP(-B37/$A$34))/(B37/$A$34))-$A$33*EXP(-B37/$A$34) -> 0.039922994
B38: 4 | C38: =$A$31+($A$32+$A$33)*((1-EXP(-B38/$A$34))/(B38/$A$34))-$A$33*EXP(-B38/$A$34) -> 0.040574144
B39: 4.5 | C39: =$A$31+($A$32+$A$33)*((1-EXP(-B39/$A$34))/(B39/$A$34))-$A$33*EXP(-B39/$A$34) -> 0.04111618
B40: 5 | C40: =$A$31+($A$32+$A$33)*((1-EXP(-B40/$A$34))/(B40/$A$34))-$A$33*EXP(-B40/$A$34) -> 0.041561874
B41: 5.5 | C41: =$A$31+($A$32+$A$33)*((1-EXP(-B41/$A$34))/(B41/$A$34))-$A$33*EXP(-B41/$A$34) -> 0.04192263
B42: 6 | C42: =$A$31+($A$32+$A$33)*((1-EXP(-B42/$A$34))/(B42/$A$34))-$A$33*EXP(-B42/$A$34) -> 0.042208624
B43: 6.5 | C43: =$A$31+($A$32+$A$33)*((1-EXP(-B43/$A$34))/(B43/$A$34))-$A$33*EXP(-B43/$A$34) -> 0.042428933
B44: 7 | C44: =$A$31+($A$32+$A$33)*((1-EXP(-B44/$A$34))/(B44/$A$34))-$A$33*EXP(-B44/$A$34) -> 0.042591648
B45: 7.5 | C45: =$A$31+($A$32+$A$33)*((1-EXP(-B45/$A$34))/(B45/$A$34))-$A$33*EXP(-B45/$A$34) -> 0.042703978
B46: 8 | C46: =$A$31+($A$32+$A$33)*((1-EXP(-B46/$A$34))/(B46/$A$34))-$A$33*EXP(-B46/$A$34) -> 0.04277234
... B50: 10 | C50: =$A$31+($A$32+$A$33)*((1-EXP(-B50/$A$34))/(B50/$A$34))-$A$33*EXP(-B50/$A$34) -> 0.042711162

Sheet NS P4
A1: Note that the fourth parameter (lambda) primarily changes the curvature of the yield curve.
A4: Parameters | B4: T | C4: Implied Yld
A5: 0.030867903 | B5: 0.5 | C5: =$A$5+($A$6+$A$7)*((1-EXP(-B5/$A$8))/(B5/$A$8))-$A$7*EXP(-B5/$A$8) -> 0.033975496
A6: 0 | B6: 1 | C6: =$A$5+($A$6+$A$7)*((1-EXP(-B6/$A$8))/(B6/$A$8))-$A$7*EXP(-B6/$A$8) -> 0.03667547
A7: 0.064556873 | B7: 1.5 | C7: =$A$5+($A$6+$A$7)*((1-EXP(-B7/$A$8))/(B7/$A$8))-$A$7*EXP(-B7/$A$8) -> 0.03901286
A8: 4.8499635 | B8: 2 | C8: =$A$5+($A$6+$A$7)*((1-EXP(-B8/$A$8))/(B8/$A$8))-$A$7*EXP(-B8/$A$8) -> 0.041027991
B9: 2.5 | C9: =$A$5+($A$6+$A$7)*((1-EXP(-B9/$A$8))/(B9/$A$8))-$A$7*EXP(-B9/$A$8) -> 0.04275695
B10: 3 | C10: =$A$5+($A$6+$A$7)*((1-EXP(-B10/$A$8))/(B10/$A$8))-$A$7*EXP(-B10/$A$8) -> 0.044232031
B11: 3.5 | C11: =$A$5+($A$6+$A$7)*((1-EXP(-B11/$A$8))/(B11/$A$8))-$A$7*EXP(-B11/$A$8) -> 0.045482113
B12: 4 | C12: =$A$5+($A$6+$A$7)*((1-EXP(-B12/$A$8))/(B12/$A$8))-$A$7*EXP(-B12/$A$8) -> 0.046533018
B13: 4.5 | C13: =$A$5+($A$6+$A$7)*((1-EXP(-B13/$A$8))/(B13/$A$8))-$A$7*EXP(-B13/$A$8) -> 0.047407822
B14: 5 | C14: =$A$5+($A$6+$A$7)*((1-EXP(-B14/$A$8))/(B14/$A$8))-$A$7*EXP(-B14/$A$8) -> 0.048127137
B15: 5.5 | C15: =$A$5+($A$6+$A$7)*((1-EXP(-B15/$A$8))/(B15/$A$8))-$A$7*EXP(-B15/$A$8) -> 0.048709368
B16: 6 | C16: =$A$5+($A$6+$A$7)*((1-EXP(-B16/$A$8))/(B16/$A$8))-$A$7*EXP(-B16/$A$8) -> 0.04917094
B17: 6.5 | C17: =$A$5+($A$6+$A$7)*((1-EXP(-B17/$A$8))/(B17/$A$8))-$A$7*EXP(-B17/$A$8) -> 0.049526501
B18: 7 | C18: =$A$5+($A$6+$A$7)*((1-EXP(-B18/$A$8))/(B18/$A$8))-$A$7*EXP(-B18/$A$8) -> 0.049789112
B19: 7.5 | C19: =$A$5+($A$6+$A$7)*((1-EXP(-B19/$A$8))/(B19/$A$8))-$A$7*EXP(-B19/$A$8) -> 0.049970403
B20: 8 | C20: =$A$5+($A$6+$A$7)*((1-EXP(-B20/$A$8))/(B20/$A$8))-$A$7*EXP(-B20/$A$8) -> 0.050080734
... B24: 10 | C24: =$A$5+($A$6+$A$7)*((1-EXP(-B24/$A$8))/(B24/$A$8))-$A$7*EXP(-B24/$A$8) -> 0.049981998
A30: Parameters | B30: T | C30: Implied Yld
A31: 0.030867903 | B31: 0.5 | C31: =$A$31+($A$32+$A$33)*((1-EXP(-B31/$A$34))/(B31/$A$34))-$A$33*EXP(-B31/$A$34) -> 0.04251448
A32: 0 | B32: 1 | C32: =$A$31+($A$32+$A$33)*((1-EXP(-B32/$A$34))/(B32/$A$34))-$A$33*EXP(-B32/$A$34) -> 0.047926483
A33: 0.064556873 | B33: 1.5 | C33: =$A$31+($A$32+$A$33)*((1-EXP(-B33/$A$34))/(B33/$A$34))-$A$33*EXP(-B33/$A$34) -> 0.049898176
A34: 1 | B34: 2 | C34: =$A$31+($A$32+$A$33)*((1-EXP(-B34/$A$34))/(B34/$A$34))-$A$33*EXP(-B34/$A$34) -> 0.050041105
B35: 2.5 | C35: =$A$31+($A$32+$A$33)*((1-EXP(-B35/$A$34))/(B35/$A$34))-$A$33*EXP(-B35/$A$34) -> 0.049271841
B36: 3 | C36: =$A$31+($A$32+$A$33)*((1-EXP(-B36/$A$34))/(B36/$A$34))-$A$33*EXP(-B36/$A$34) -> 0.048101397
B37: 3.5 | C37: =$A$31+($A$32+$A$33)*((1-EXP(-B37/$A$34))/(B37/$A$34))-$A$33*EXP(-B37/$A$34) -> 0.04680629
B38: 4 | C38: =$A$31+($A$32+$A$33)*((1-EXP(-B38/$A$34))/(B38/$A$34))-$A$33*EXP(-B38/$A$34) -> 0.04552912
B39: 4.5 | C39: =$A$31+($A$32+$A$33)*((1-EXP(-B39/$A$34))/(B39/$A$34))-$A$33*EXP(-B39/$A$34) -> 0.044337343
B40: 5 | C40: =$A$31+($A$32+$A$33)*((1-EXP(-B40/$A$34))/(B40/$A$34))-$A$33*EXP(-B40/$A$34) -> 0.0432573
B41: 5.5 | C41: =$A$31+($A$32+$A$33)*((1-EXP(-B41/$A$34))/(B41/$A$34))-$A$33*EXP(-B41/$A$34) -> 0.042293718
B42: 6 | C42: =$A$31+($A$32+$A$33)*((1-EXP(-B42/$A$34))/(B42/$A$34))-$A$33*EXP(-B42/$A$34) -> 0.041440691
B43: 6.5 | C43: =$A$31+($A$32+$A$33)*((1-EXP(-B43/$A$34))/(B43/$A$34))-$A$33*EXP(-B43/$A$34) -> 0.04068774
B44: 7 | C44: =$A$31+($A$32+$A$33)*((1-EXP(-B44/$A$34))/(B44/$A$34))-$A$33*EXP(-B44/$A$34) -> 0.040023035
B45: 7.5 | C45: =$A$31+($A$32+$A$33)*((1-EXP(-B45/$A$34))/(B45/$A$34))-$A$33*EXP(-B45/$A$34) -> 0.03943502
B46: 8 | C46: =$A$31+($A$32+$A$33)*((1-EXP(-B46/$A$34))/(B46/$A$34))-$A$33*EXP(-B46/$A$34) -> 0.038913148
... B50: 10 | C50: =$A$31+($A$32+$A$33)*((1-EXP(-B50/$A$34))/(B50/$A$34))-$A$33*EXP(-B50/$A$34) -> 0.037320366

Sheet OC 2
A1: The OC Case notes that in 1994, OC lost $1.6 billion in a portfolio of $7.5 billion, when interest rates rose from 4% to 6.7% over the year.
A4: Veronesi poses the question: If the OC portfolio were invested solely in 0-coupon Treasuries, what would the term of those zeroes have been to generate this loss.
A5: -- That is, what was this portfolio's duration?
A8: The duration formula, is: | F8: or: | G8: =-1/7.5 -> -0.13333333 | H8: X | I8: =-1.6/0.027 -> -59.259259 | J8: = | K8: =G8*I8 -> 7.9012346
A13: The Treasurer used the repo market to increase his holdings to $20.5 billion.
A15: The duration of an equity position is:
A18: So for OC, A/(A-L) is:
A19: A: | B19: 20.5
A20: A-L | B20: 7.5
A21: L | B21: =B19-B20 -> 13
A23: Overnight repo have a duration of 1 day (we'll let this be 0).
G24: =-1/B19 -> -0.048780488 | H24: X | I24: =-1.6/0.027 -> -59.259259 | J24: = | K24: =G24*I24 -> 2.8906956
A25: So his loss has to be related to the total assets: | G25: =-1/B19 -> -0.048780488 | H25: X
A27: In other words, by using leverage, OC increased the duration of its assets from | I27: =K24 -> 2.8906956 | J27: to | K27: =K8 -> 7.9012346
A31: IF the Treasurer hd not used leverage, then the portfolio losses would have benn
A32: IF the Treasurer had not used leverage, then the portfolio losses would have been | I32: =K24*0.027*-B20 -> -0.58536585 | J32: billion
A34: We can compute the duration of the inverse floaters by examining the duration of its replicating portfolio.
A35: The duration of the 3-year 0-coupon bond is: | F35: 3
A36: The duration of the floating rate bond is: | F36: 1 | G36: (because it has an annual tenor --i.e., resets are annual.)
A37: Coupon bond duration: | F37: =P38 -> 2.6684261 | H37: From the OC 1 worksheet, we can compute the duration of the coupon bond:
P38: =(1*'OC 1'!N11+2*'OC 1'!N20+3*'OC 1'!N34)/'OC 1'!N56 -> 2.6684261
A39: So the inverse floater's duration is:
A40: ='OC 1'!D55/'OC 1'!D63*F35 -> 2.2563078 | B40: + | C40: ='OC 1'!D56/'OC 1'!D63*'OC 2'!F37 -> 2.9563198 | D40: + | F40: =-100/'OC 1'!D63*F36 -> -0.85999157 | G40: = | H40: =A40+C40+F40 -> 4.3526361
A42: In general, we know that for fixed coupon bonds, duration falls as the coupon increases.
A43: --So why is the duration of the inverse floater higher than the 3-year zero?
B44: --the answer is that a standard coupon can be reinvested at the higher rate, IF rates rise -- reinvestment risk and discounting risk offset one another.
A46: However, if you own an inverse floater, and interest rates rise, your coupon falls.
B47: --This extenuates discounting risk.
A49: The effect of a parallel shift in the yield curve on the inverse floater is similar to the effect on a 0-coupon bond with this term.
A52: Now, let's compute the duration of the leveraged inverse floater:
A54: We need the duration of the 3-year 25% bond: | H54: 1 | I54: X | J54: =25*0.5*('OC 1'!G11+'OC 1'!H11) -> 24.104129 | K54: = | L54: =H54*J54 -> 24.104129
H55: 2 | I55: X | J55: =25*0.5*('OC 1'!G20+'OC 1'!H20) -> 22.983727 | K55: = | L55: =H55*J55 -> 45.967455
H56: 3 | I56: X | J56: =125*0.5*('OC 1'!G34+'OC 1'!H34) -> 109.31831 | K56: = | L56: =H56*J56 -> 327.95494
L57: =SUM(L54:L56) -> 398.02652
M58: ='OC 1'!C128 -> 156.40617
N59: =L57/M58 -> 2.5448262 | O59: (Of course increasing the coupon lowers the duration)
A60: Duration of the levered inverse floater: | F60: ='OC 1'!C127/'OC 1'!C131 -> 1.3319779 | G60: X | H60: 3 | I60: + | J60: ='OC 1'!C128/'OC 1'!C131 -> 1.1910719 | K60: X | L60: =N59 -> 2.5448262 | M60: - | N60: 1 | O60: X | P60: ='OC 1'!C129/'OC 1'!C131 -> 1.5230498 | Q60: = | R60: =F60*H60+J60*L60-N60*P60 -> 5.503955
A63: Veronesi tells us that the OC portfolio included $2.8 billion in inverse floaters. | I63: 2.8
A64: He uses this to calibrate the rest of the portfolio.
A66: We know that the duration of the assets in the portfolio is: | H66: =K24 -> 2.8906956
...

Sheet Floaters
A1: Floating Rate notes and bonds
A4: A floater is a marketable security, similar to a (standard) note in that it is issued by a borrower, and is a promise to make future cash flows through maturity.
A5: It differs from a standard note in that the coupon is not fixed. The coupon is based on a reference rate and a spread.
A6: Coupons are paid on a fixed schedule--often quarterly. The rate paid at time t, is determined at the preceding payment date, or issue.
A7: For example, consider a 5-year floating rate note:
B8: Term | C8: 5
B9: Frequency | C9: Qtrly
B10: Basis | C10: Actual/360
B11: Issue Date | C11: 40830
B12: Reference Rate: | C12: 90-day Libor
B13: Spread: | C13: 165 bps
B14: Tenor | C14: Quarterly
A16: Suppose that on 10/15/15, 90-day Libor was 1.45%. | G16: 0.0145 | H16: 0.0165
A17: This means that the first interest payment on this note will occur on 1/15/2016: | G17: 40922
G18: =(G17-C11)/360 -> 0.25555556
G19: =G18*(G16+H16) -> 0.0079222222
B20: The amount of this payment is known on 10/15/15, when the note is issued, and this will be: | H20: =G19*100 -> 0.79222222 | I20: for 100 par value of notes.
B22: Note that the coupon is reset on a quarterly basis, with the reset date corresponding to the coupon payment date.
A24: An implication of this for valuing a floater is that it will sell for par on every reset date. I stress that we are assuming no default risk, otherwise that will not be the case.
A26: The risk of this floater is identical to the risk of a 90-day bill.
A28: The tenor refers to the term on which interest is paid. It will usually be equal to the frequency of payments.
